BEGIN:VCALENDAR
VERSION:2.0
PRODID:-//Maine Education Association - ECPv6.3.3.1//NONSGML v1.0//EN
CALSCALE:GREGORIAN
METHOD:PUBLISH
X-WR-CALNAME:Maine Education Association
X-ORIGINAL-URL:https://maineea.org
X-WR-CALDESC:Events for Maine Education Association
REFRESH-INTERVAL;VALUE=DURATION:PT1H
X-Robots-Tag:noindex
X-PUBLISHED-TTL:PT1H
BEGIN:VTIMEZONE
TZID:America/New_York
BEGIN:DAYLIGHT
TZOFFSETFROM:-0500
TZOFFSETTO:-0400
TZNAME:EDT
DTSTART:20220313T070000
END:DAYLIGHT
BEGIN:STANDARD
TZOFFSETFROM:-0400
TZOFFSETTO:-0500
TZNAME:EST
DTSTART:20221106T060000
END:STANDARD
END:VTIMEZONE
BEGIN:VEVENT
DTSTART;VALUE=DATE:20221210
DTEND;VALUE=DATE:20221211
DTSTAMP:20240302T020237
CREATED:20221028T141520Z
LAST-MODIFIED:20221116T151632Z
UID:17957-1670630400-1670716799@maineea.org
SUMMARY:MEA Winter Conference
DESCRIPTION:REGISTER HERE \nJoin the Maine Education Association as we work with educational experts to deliver relevant\, professional development that will help you innovate\, advocate\, and motivate your students. \n\n\n\nThis NEW\, in-person winter conference is Forward Focused: you will leave the training with information that will help you immediately when you head back to work. The conference is FREE for members\, and members earn contact hours for attending. \n\n\n\nConference Details\n\n\n\nDate: December 10th Place: Augusta\, ME Who: All MEA members Cost: FREE for members Contact Hours: 5 hours earned Registration: REGISTER HERE \n\n\n\nSessions Include: \n\n\n\n\nClassroom Management\nTech Tools for Instruction\nStudent Engagement Strategies\nTrauma-Informed Instruction\nImplementing Accommodations\nBuilding Welcoming Schools for LGBTQ Youth\nThe Vaping Crisis\nSelf-Care\nLeaders for Just Schools\nCulturally Responsive Collaboration\n\n\n\n\nParticipants will earn 5 Contact Hours for attending.\n\n\n\nREGISTER HERE
URL:https://maineea.org/event/mea-winter-conference/
LOCATION:ME
CATEGORIES:Professional Development
ATTACH;FMTTYPE=image/png:https://maineea.org/wp-content/uploads/2022/10/Winter-Conference-22_No-MEA-logo.png
END:VEVENT
BEGIN:VEVENT
DTSTART;TZID=America/New_York:20221210T090000
DTEND;TZID=America/New_York:20221210T140000
DTSTAMP:20240302T020237
CREATED:20220930T175405Z
LAST-MODIFIED:20220930T175405Z
UID:17718-1670662800-1670680800@maineea.org
SUMMARY:National Board Training Support Workshops 2022-23
DESCRIPTION:REGISTER HERE \nNational Board Certification is the most respected professional credential available in education. Any educator with a bachelor’s degree\, active teaching certificate\, and 3 years teaching/school counseling experience is eligible for certification. \nAs part of your membership\, MEA offers FREE\, virtual workshops to guide you through the NBCT process. Participants who complete all sessions will receive 15 CEUs. \nThese workshops are for:\n\nPotential NBCT candidates seeking more information\nNBCT candidates working toward certification\nNBCT renewal candidates\n\n2022-2023 Dates\nAll sessions will be held virtually and will run from 9 AM-2PM. You must attend each workshop. When registering\, please click each dated box to the right which will sign you up for the entire series.\nSupport Workshops: Each workshop will have a different focus based on the needs of the candidates attending. \n\nOctober 29th\nDec. 10th\nJan. 14th\nFeb. 11th\nMarch 18th\nApril 29th\nMay 6th\n\nParticipants are encouraged to attend as many sessions as possible to get the full benefit of working with this group of dedicated Maine teachers. \nAll workshops are sponsored by the Maine Education Association and facilitated by trained Candidate Support Providers who are NBCTs. For more information\, contact MEA. \nBenefits of certification include \n\nIncreased student achievement\nImproved teaching practice\nA network of support\nA yearly salary stipend of $3\,000-$5\,000
URL:https://maineea.org/event/national-board-training-support-workshops-2022-23-2/
LOCATION:ME
CATEGORIES:NBCT Workshop,Professional Development
END:VEVENT
END:VCALENDAR