BEGIN:VCALENDAR
VERSION:2.0
PRODID:-//Maine Education Association - ECPv6.3.3.1//NONSGML v1.0//EN
CALSCALE:GREGORIAN
METHOD:PUBLISH
X-ORIGINAL-URL:https://maineea.org
X-WR-CALDESC:Events for Maine Education Association
REFRESH-INTERVAL;VALUE=DURATION:PT1H
X-Robots-Tag:noindex
X-PUBLISHED-TTL:PT1H
BEGIN:VTIMEZONE
TZID:America/New_York
BEGIN:DAYLIGHT
TZOFFSETFROM:-0500
TZOFFSETTO:-0400
TZNAME:EDT
DTSTART:20230312T070000
END:DAYLIGHT
BEGIN:STANDARD
TZOFFSETFROM:-0400
TZOFFSETTO:-0500
TZNAME:EST
DTSTART:20231105T060000
END:STANDARD
END:VTIMEZONE
BEGIN:VEVENT
DTSTART;TZID=America/New_York:20230302T160000
DTEND;TZID=America/New_York:20230302T170000
DTSTAMP:20240302T021036
CREATED:20230217T140323Z
LAST-MODIFIED:20230228T171743Z
UID:18678-1677772800-1677776400@maineea.org
SUMMARY:Meet and greet your new Uniserv Director - Melissa Statman!
DESCRIPTION:Meet your new UD 15 Director\, Melissa Statman!
URL:https://maineea.org/event/meet-and-greet-your-new-uniserv-director-melissa-statman-4/
LOCATION:ME
ATTACH;FMTTYPE=image/jpeg:https://maineea.org/wp-content/uploads/2023/02/04975acde0ac5af00d58108bfd82ae1e-vd2dOd.tmp_.jpg
END:VEVENT
BEGIN:VEVENT
DTSTART;TZID=America/New_York:20230302T163000
DTEND;TZID=America/New_York:20230302T183000
DTSTAMP:20240302T021036
CREATED:20230217T140325Z
LAST-MODIFIED:20230228T171744Z
UID:18681-1677774600-1677781800@maineea.org
SUMMARY:Is It a Grievance or A Gripe?
DESCRIPTION:Is It a Grievance or a Gripe? (And what to do about both…)\n\n\nW﻿e’ll cover updates about what’s happening in Augusta on legislation that impacts our schools\, local and regional bargaining efforts this year\, an update from the MEA Board and a presentation about how to be a building rep.
URL:https://maineea.org/event/is-it-a-grievance-or-a-gripe/
LOCATION:Bluebird Ranch Family Restaurant\, 78 Main Street\, Machias\, ME\, United States
ATTACH;FMTTYPE=image/jpeg:https://maineea.org/wp-content/uploads/2023/02/560b2194d2a200dabda32ff733dbaa6d-scpnhg.tmp_.jpg
END:VEVENT
END:VCALENDAR