BEGIN:VCALENDAR
VERSION:2.0
PRODID:-//Maine Education Association - ECPv6.3.3.1//NONSGML v1.0//EN
CALSCALE:GREGORIAN
METHOD:PUBLISH
X-ORIGINAL-URL:https://maineea.org
X-WR-CALDESC:Events for Maine Education Association
REFRESH-INTERVAL;VALUE=DURATION:PT1H
X-Robots-Tag:noindex
X-PUBLISHED-TTL:PT1H
BEGIN:VTIMEZONE
TZID:America/New_York
BEGIN:DAYLIGHT
TZOFFSETFROM:-0500
TZOFFSETTO:-0400
TZNAME:EDT
DTSTART:20230312T070000
END:DAYLIGHT
BEGIN:STANDARD
TZOFFSETFROM:-0400
TZOFFSETTO:-0500
TZNAME:EST
DTSTART:20231105T060000
END:STANDARD
END:VTIMEZONE
BEGIN:VEVENT
DTSTART;TZID=America/New_York:20230307T163000
DTEND;TZID=America/New_York:20230307T183000
DTSTAMP:20240302T021119
CREATED:20230217T140333Z
LAST-MODIFIED:20230228T171750Z
UID:18693-1678206600-1678213800@maineea.org
SUMMARY:Portland Area Membership Workshop: UD 1\,2\,3\, & 4
DESCRIPTION:March into Membership Workshop 2023\n\n\nLet’s refocus how we look at our membership plans – and have our local campaigns begin with early enrollment.\n \n \nEach local should send at least two representatives who are “in the know”\, who know people\, they know what’s going on\, and they have the gift of gab. Shake it up a little – involve some new folks – those who appreciate the union and the work we do.\n \n \nYou will leave with a new set of tools\, resources\, and excitement to invigorate your local’s membership campaign.\n \n \nDinner will be provided\, and mileage will be reimbursed!\n \n \n*Registration closes Thursday\, March 2nd at 4 p.m.\n \n \n**Please plan to bring your personal laptop or tablet.
URL:https://maineea.org/event/portland-area-membership-workshop-ud-123-4/
LOCATION:Clarion Hotel Airport\, 1230 Congress Street\, Portland\, ME\, 04102\, United States
ATTACH;FMTTYPE=image/jpeg:https://maineea.org/wp-content/uploads/2023/02/9184d78e0f54121b4bdcef8fb184f0fe-VQRmBt.tmp_.jpg
END:VEVENT
BEGIN:VEVENT
DTSTART;TZID=America/New_York:20230307T170000
DTEND;TZID=America/New_York:20230307T181500
DTSTAMP:20240302T021119
CREATED:20230217T140335Z
LAST-MODIFIED:20230228T171753Z
UID:18695-1678208400-1678212900@maineea.org
SUMMARY:Pre-Retirement Seminar - Session 6
DESCRIPTION:Pre-Retirement Seminars\n\n\nPre-Retirement Seminar – Session 6 \nThis session will be held on two evenings from 5:00 p.m. – 6:15 p.m. via Zoom for active MEA members.  \n •	Tuesday\, March 7\, 2023 – MEA-Retired\, MEA Benefit Trust\, WEP/GPO \n•	Wednesday\, March 8\, 2023 – MEA-Retired\, MainePERS \nThe link to access the Zoom meeting\, along with the materials from MainePERS\, MEA Benefits Trust\, MEA-Retired and Horace Mann will be emailed to the email address used during registration.  This email will be sent the day before your session. The meeting link will be used for both nights of your session. \nPlease be aware that there have been instances where the Zoom link and materials have been sent to a junk/spam folder. We ask that you check these folders as well.
URL:https://maineea.org/event/pre-retirement-seminar-session-6-2/
LOCATION:ME
ATTACH;FMTTYPE=image/jpeg:https://maineea.org/wp-content/uploads/2023/02/401d9f5569387bf221a4ad28eefe9ad1-y99Xtg.tmp_.jpg
END:VEVENT
BEGIN:VEVENT
DTSTART;TZID=America/New_York:20230307T173000
DTEND;TZID=America/New_York:20230307T193000
DTSTAMP:20240302T021119
CREATED:20230217T140337Z
LAST-MODIFIED:20230228T171755Z
UID:18698-1678210200-1678217400@maineea.org
SUMMARY:UD 9 Membership Workshop
DESCRIPTION:March Into Membership Workshop\n\n\nLet’s refocus how we look at our membership plans – and have our local campaigns begin with early enrollment. \nEach local should send at least two representatives who are “in the know”\, who know people\, they know what’s going on\, and they have the gift of gab. Shake it up a little – involve some new folks – those who appreciate the union and the work we do. \nYou will leave with a new set of tools\, resources\, and excitement to invigorate your local’s membership campaign. \nDinner will be provided\, and mileage will be reimbursed! \nPlease select the one meeting that works best for you! \n*Registration closes Thursday\, March 2nd at 4 p.m. \n**Please plan to bring your personal laptop or tablet
URL:https://maineea.org/event/ud-9-membership-workshop/
LOCATION:Darby’s\, 155 High Street\, Belfast\, ME\, 04915\, United States
ATTACH;FMTTYPE=image/jpeg:https://maineea.org/wp-content/uploads/2023/02/7f29c06fe246f88022c60b38b6e93cf8-9CyawM.tmp_.jpg
END:VEVENT
END:VCALENDAR