BEGIN:VCALENDAR
VERSION:2.0
PRODID:-//Maine Education Association - ECPv6.3.3.1//NONSGML v1.0//EN
CALSCALE:GREGORIAN
METHOD:PUBLISH
X-WR-CALNAME:Maine Education Association
X-ORIGINAL-URL:https://maineea.org
X-WR-CALDESC:Events for Maine Education Association
REFRESH-INTERVAL;VALUE=DURATION:PT1H
X-Robots-Tag:noindex
X-PUBLISHED-TTL:PT1H
BEGIN:VTIMEZONE
TZID:America/New_York
BEGIN:DAYLIGHT
TZOFFSETFROM:-0500
TZOFFSETTO:-0400
TZNAME:EDT
DTSTART:20230312T070000
END:DAYLIGHT
BEGIN:STANDARD
TZOFFSETFROM:-0400
TZOFFSETTO:-0500
TZNAME:EST
DTSTART:20231105T060000
END:STANDARD
END:VTIMEZONE
BEGIN:VEVENT
DTSTART;VALUE=DATE:20230425
DTEND;VALUE=DATE:20230426
DTSTAMP:20240302T021335
CREATED:20220527T155213Z
LAST-MODIFIED:20230314T202017Z
UID:16744-1682380800-1682467199@maineea.org
SUMMARY:Pre-RA Overview Meeting (PROM) - Bangor area
DESCRIPTION:Bangor Office
URL:https://maineea.org/event/pre-ra-overview-meeting-prom-bangor-area-2/
LOCATION:ME
CATEGORIES:PROM Meetings
END:VEVENT
BEGIN:VEVENT
DTSTART;TZID=America/New_York:20230425T163000
DTEND;TZID=America/New_York:20230425T190000
DTSTAMP:20240302T021335
CREATED:20230330T124335Z
LAST-MODIFIED:20230424T184336Z
UID:19004-1682440200-1682449200@maineea.org
SUMMARY:Lead\, Promote\, Secure\, Defend!
DESCRIPTION:How to effectively use your grievance procedures.\n\n\nThis will be a two-session training that will help you determine when you have a grievance\, how to effectively advocate\, and defend not only your members\, but your contract. This training is structured to be a great refresher to veterans and a comprehensive introduction to our newer union leaders. You must be able to commit to both dates. \n \nDates: Tuesday\, April 25 and Tuesday\, May 2nd. \nTime: 4:30pm-7:00pm \nLocation: Warsaw Middle School \n                  167 School Street \n                  Pittsfield\, ME \n \nTopics will include but not be limited to: \n \n•	What is a grievance? \n•	When and how to file a grievance (or not)? \n•	Past Practice \n•	Grievances and the law \n•	Types of disputes \n•	Developing your position \n•	Writing the grievance \n•	Settlements \n \nDinner will be provided.  \n \nIf you have strong interest in the training\, but are unable to commit to these dates\, please reach out to your UniServ Director\, Sarah Nichols via email at snichols@maineea.org.
URL:https://maineea.org/event/lead-promote-secure-defend/
LOCATION:Warsaw Middle School\, 167 School Street\, #A\, Pittsfield\, ME\, 04967\, United States
ATTACH;FMTTYPE=image/jpeg:https://maineea.org/wp-content/uploads/2023/03/242c1ce730083858188ea4e26fdd0a21-f3Jv1Z.tmp_.jpg
END:VEVENT
END:VCALENDAR