BEGIN:VCALENDAR
VERSION:2.0
PRODID:-//Maine Education Association - ECPv6.3.3.1//NONSGML v1.0//EN
CALSCALE:GREGORIAN
METHOD:PUBLISH
X-WR-CALNAME:Maine Education Association
X-ORIGINAL-URL:https://maineea.org
X-WR-CALDESC:Events for Maine Education Association
REFRESH-INTERVAL;VALUE=DURATION:PT1H
X-Robots-Tag:noindex
X-PUBLISHED-TTL:PT1H
BEGIN:VTIMEZONE
TZID:America/New_York
BEGIN:DAYLIGHT
TZOFFSETFROM:-0500
TZOFFSETTO:-0400
TZNAME:EDT
DTSTART:20230312T070000
END:DAYLIGHT
BEGIN:STANDARD
TZOFFSETFROM:-0400
TZOFFSETTO:-0500
TZNAME:EST
DTSTART:20231105T060000
END:STANDARD
END:VTIMEZONE
BEGIN:VEVENT
DTSTART;TZID=America/New_York:20230503T160000
DTEND;TZID=America/New_York:20230503T170000
DTSTAMP:20240302T021359
CREATED:20230501T190938Z
LAST-MODIFIED:20230501T190938Z
UID:19296-1683129600-1683133200@maineea.org
SUMMARY:Members-Only Webinar: How to Handle Dangerous Behavior-Protections\, Protocols & Accountability
DESCRIPTION:REGISTER \nThe Maine Education Association knows there has been an increase in dangerous behaviors in schools\, sometimes causing harm to students and staff. Did you know there is a law to help educators deal with the repercussions of these behaviors and help prevent them in the future? Join us on May 3rd at 4PM to learn about the protections covered by this law\, protocols your district should have in place\, and ways in which you can make sure your administration is held accountable in addressing dangerous behavior. Following registration\, your membership will be verified\, and you will receive an additional email which will contain the link to join the webinar on May 3rd. \nREGISTER
URL:https://maineea.org/event/members-only-webinar-how-to-handle-dangerous-behavior-protections-protocols-accountability/
LOCATION:ME
CATEGORIES:Professional Development,Webinar
ATTACH;FMTTYPE=image/webp:https://maineea.org/wp-content/uploads/2022/05/MEA-Header-scaled-e1660760024579.webp
END:VEVENT
END:VCALENDAR