BEGIN:VCALENDAR
VERSION:2.0
PRODID:-//Maine Education Association - ECPv6.3.3.1//NONSGML v1.0//EN
CALSCALE:GREGORIAN
METHOD:PUBLISH
X-WR-CALNAME:Maine Education Association
X-ORIGINAL-URL:https://maineea.org
X-WR-CALDESC:Events for Maine Education Association
REFRESH-INTERVAL;VALUE=DURATION:PT1H
X-Robots-Tag:noindex
X-PUBLISHED-TTL:PT1H
BEGIN:VTIMEZONE
TZID:America/New_York
BEGIN:DAYLIGHT
TZOFFSETFROM:-0500
TZOFFSETTO:-0400
TZNAME:EDT
DTSTART:20230312T070000
END:DAYLIGHT
BEGIN:STANDARD
TZOFFSETFROM:-0400
TZOFFSETTO:-0500
TZNAME:EST
DTSTART:20231105T060000
END:STANDARD
END:VTIMEZONE
BEGIN:VEVENT
DTSTART;VALUE=DATE:20230513
DTEND;VALUE=DATE:20230514
DTSTAMP:20240302T021420
CREATED:20220527T155255Z
LAST-MODIFIED:20220818T164749Z
UID:16750-1683936000-1684022399@maineea.org
SUMMARY:Committee Chair Meeting - 9am
DESCRIPTION:
URL:https://maineea.org/event/committee-chair-meeting-9am-4/
LOCATION:ME
END:VEVENT
BEGIN:VEVENT
DTSTART;VALUE=DATE:20230513
DTEND;VALUE=DATE:20230514
DTSTAMP:20240302T021420
CREATED:20220527T155257Z
LAST-MODIFIED:20220803T135247Z
UID:16751-1683936000-1684022399@maineea.org
SUMMARY:MEA Committee Day (BIPOC\, ESP\, GR\, HCRSJ\, IPD\, SWB\, ad hoc YEP) - 10am
DESCRIPTION:
URL:https://maineea.org/event/mea-committee-day-bipoc-esp-gr-hcrsl-ipd-swb-ad-hoc-yep-10am/
LOCATION:ME
END:VEVENT
BEGIN:VEVENT
DTSTART;TZID=America/New_York:20230513T100000
DTEND;TZID=America/New_York:20230513T150000
DTSTAMP:20240302T021420
CREATED:20230405T190428Z
LAST-MODIFIED:20230509T000051Z
UID:19064-1683972000-1683990000@maineea.org
SUMMARY:Committee Day - May 13
DESCRIPTION:MEA Committee Day\n\n\nWelcome to the registration site for MEA Committee Day on May 13\, 2023! \nSPECIAL NOTE: Committee Chairs have a meeting scheduled with President Grace Leavitt at 9:00am at MEA Headquarters. \nLunch will be served. \nAccommodations are available at the Fairfield Inn & Suites\, Augusta\, for those members who live more than 90 miles from the MEA Augusta Office. Rooms are double-occupancy. You will be asked on the registration form if you need accommodations for Friday\, May 12. \nDue to deadlines with our caterer and hotel\, the registration deadline for Committee Day is Friday\, May 5\, 2023. \nWe’ll see you soon!
URL:https://maineea.org/event/committee-day-may-13/
LOCATION:Maine Education Association\, 35 Community Drive\, Augusta\, ME\, 04330\, United States
ATTACH;FMTTYPE=image/jpeg:https://maineea.org/wp-content/uploads/2023/04/491022a2114096c83d999366ff8ca8ce-vrtFw7.tmp_.jpg
END:VEVENT
END:VCALENDAR