BEGIN:VCALENDAR
VERSION:2.0
PRODID:-//Maine Education Association - ECPv6.3.3.1//NONSGML v1.0//EN
CALSCALE:GREGORIAN
METHOD:PUBLISH
X-ORIGINAL-URL:https://maineea.org
X-WR-CALDESC:Events for Maine Education Association
REFRESH-INTERVAL;VALUE=DURATION:PT1H
X-Robots-Tag:noindex
X-PUBLISHED-TTL:PT1H
BEGIN:VTIMEZONE
TZID:America/New_York
BEGIN:DAYLIGHT
TZOFFSETFROM:-0500
TZOFFSETTO:-0400
TZNAME:EDT
DTSTART:20230312T070000
END:DAYLIGHT
BEGIN:STANDARD
TZOFFSETFROM:-0400
TZOFFSETTO:-0500
TZNAME:EST
DTSTART:20231105T060000
END:STANDARD
END:VTIMEZONE
BEGIN:VEVENT
DTSTART;TZID=America/New_York:20230516T170000
DTEND;TZID=America/New_York:20230516T193000
DTSTAMP:20240302T021426
CREATED:20230408T165237Z
LAST-MODIFIED:20230514T011446Z
UID:19086-1684256400-1684265400@maineea.org
SUMMARY:District 9 Membership Workshop
DESCRIPTION:Spring Into Membership Workshop with District 9\n\n\nEngaged\, robust membership makes our Local Associations powerful\, and we have new tools to help in your local! \nLet’s refocus how we look at our membership plans – and have our local campaigns begin with early enrollment. \nEach local should send at least two representatives who are “in the know”\, who know people\, they know what’s going on\, and they have the gift of gab. Shake it up a little – involve some new folks – those who appreciate the union and the work we do. \nYou will leave with a new set of tools\, resources\, and excitement to invigorate your local’s membership campaign. \nDinner will be provided\, and mileage will be reimbursed! \nPlease plan to bring your personal laptop or tablet.
URL:https://maineea.org/event/district-9-membership-workshop/
LOCATION:Marlintini’s Grill\, 83 Mines Road\, Blue Hill\, ME\, 04614\, United States
ATTACH;FMTTYPE=image/jpeg:https://maineea.org/wp-content/uploads/2023/04/3dfabb4c42f601973683c0aa3f2af8fd-Nloxpa.tmp_.jpg
END:VEVENT
END:VCALENDAR