BEGIN:VCALENDAR
VERSION:2.0
PRODID:-//Maine Education Association - ECPv6.3.3.1//NONSGML v1.0//EN
CALSCALE:GREGORIAN
METHOD:PUBLISH
X-WR-CALNAME:Maine Education Association
X-ORIGINAL-URL:https://maineea.org
X-WR-CALDESC:Events for Maine Education Association
REFRESH-INTERVAL;VALUE=DURATION:PT1H
X-Robots-Tag:noindex
X-PUBLISHED-TTL:PT1H
BEGIN:VTIMEZONE
TZID:America/New_York
BEGIN:DAYLIGHT
TZOFFSETFROM:-0500
TZOFFSETTO:-0400
TZNAME:EDT
DTSTART:20230312T070000
END:DAYLIGHT
BEGIN:STANDARD
TZOFFSETFROM:-0400
TZOFFSETTO:-0500
TZNAME:EST
DTSTART:20231105T060000
END:STANDARD
END:VTIMEZONE
BEGIN:VEVENT
DTSTART;VALUE=DATE:20230801
DTEND;VALUE=DATE:20230802
DTSTAMP:20240302T021607
CREATED:20230608T195829Z
LAST-MODIFIED:20230608T195829Z
UID:19629-1690848000-1690934399@maineea.org
SUMMARY:Summer Conference
DESCRIPTION:CONFERENCE INFO \nMEA invites you to join us for FREE professional development to get you ready for the next year! \nThe summer conference will feature high-quality professional development presented by members\, including County Teachers of the Year\, Board Certified Behavioral Analysts\, National Board Certified Teachers\, as well as MEA and NEA staff. In addition\, Emily Read Daniels\, author and creator of The Regulated Classroom\, will address members with a keynote: “Stepping into Your Personal Power for the 2023/2024 School Year”. \nSessions have been crafted to meet the unique needs of our support staff\, early career educators\, pre-K-12 teachers\, and union leaders at all levels\, pre-K-Higher Ed.
URL:https://maineea.org/event/summer-conference-2/
LOCATION:Holiday Inn by the Bay\, Holiday Inn by the Bay\, 88 Spring St.\, Portland\, ME\, 04101\, United States
CATEGORIES:Professional Development,Summer Conference
ATTACH;FMTTYPE=image/png:https://maineea.org/wp-content/uploads/2023/06/Summer-Conference-23.png
END:VEVENT
END:VCALENDAR