BEGIN:VCALENDAR
VERSION:2.0
PRODID:-//Maine Education Association - ECPv6.3.3.1//NONSGML v1.0//EN
CALSCALE:GREGORIAN
METHOD:PUBLISH
X-WR-CALNAME:Maine Education Association
X-ORIGINAL-URL:https://maineea.org
X-WR-CALDESC:Events for Maine Education Association
REFRESH-INTERVAL;VALUE=DURATION:PT1H
X-Robots-Tag:noindex
X-PUBLISHED-TTL:PT1H
BEGIN:VTIMEZONE
TZID:America/New_York
BEGIN:DAYLIGHT
TZOFFSETFROM:-0500
TZOFFSETTO:-0400
TZNAME:EDT
DTSTART:20230312T070000
END:DAYLIGHT
BEGIN:STANDARD
TZOFFSETFROM:-0400
TZOFFSETTO:-0500
TZNAME:EST
DTSTART:20231105T060000
END:STANDARD
END:VTIMEZONE
BEGIN:VEVENT
DTSTART;TZID=America/New_York:20230818T120000
DTEND;TZID=America/New_York:20230829T140000
DTSTAMP:20240302T021422
CREATED:20230804T120507Z
LAST-MODIFIED:20230823T173426Z
UID:20098-1692360000-1693317600@maineea.org
SUMMARY:District 1 Back to School Meeting
DESCRIPTION:District1 Annual Membership Planning\n\n\nPlease join us for our annual membership planning meeting to discuss recruitment strategies for the new school year. We encourage all local leaders (officers\, building representatives\, membership team) and potential new leaders to attend. Please plan to bring a device to access our new digital membership materials and learn how to stay connected to the MEA through our digital platforms. \nWe strongly recommend that every local Association send a membership team (at least two members) to this meeting. Lunch will be provided. \nWe look forward to seeing you all!
URL:https://maineea.org/event/district-1-back-to-school-meeting/
LOCATION:Duffy’s Tavern & Grill\, 4 Main Street\, Kennebunk\, ME\, 04043\, United States
ATTACH;FMTTYPE=image/jpeg:https://maineea.org/wp-content/uploads/2023/07/e11a678fe67828b8de59f461540c54bf-2zKyfv.tmp_.jpg
END:VEVENT
END:VCALENDAR