BEGIN:VCALENDAR
VERSION:2.0
PRODID:-//Maine Education Association - ECPv6.3.3.1//NONSGML v1.0//EN
CALSCALE:GREGORIAN
METHOD:PUBLISH
X-WR-CALNAME:Maine Education Association
X-ORIGINAL-URL:https://maineea.org
X-WR-CALDESC:Events for Maine Education Association
REFRESH-INTERVAL;VALUE=DURATION:PT1H
X-Robots-Tag:noindex
X-PUBLISHED-TTL:PT1H
BEGIN:VTIMEZONE
TZID:America/New_York
BEGIN:DAYLIGHT
TZOFFSETFROM:-0500
TZOFFSETTO:-0400
TZNAME:EDT
DTSTART:20230312T070000
END:DAYLIGHT
BEGIN:STANDARD
TZOFFSETFROM:-0400
TZOFFSETTO:-0500
TZNAME:EST
DTSTART:20231105T060000
END:STANDARD
END:VTIMEZONE
BEGIN:VEVENT
DTSTART;TZID=America/New_York:20230927T163000
DTEND;TZID=America/New_York:20231108T193000
DTSTAMP:20240302T021126
CREATED:20230901T200146Z
LAST-MODIFIED:20231108T141207Z
UID:20303-1695832200-1699471800@maineea.org
SUMMARY:Negotiations Training Portland
DESCRIPTION:Negotiations Training 2023 Sessions 1-4\n\n\nNegotiation Training 2023\n \n \nPresented by MEA UniServ Directors\n \n \nPlease join for a four-part\, comprehensive negotiations training series. This training is especially beneficial for those who are at the bargaining table this year but is open to all local negotiations teams.\n \n \nIf you are bargaining this year\, it is critical that your local’s Chief Negotiator and entire bargaining team commit to attend ALL FOUR sessions! Participation in these trainings is vital to your success at the bargaining table.  Even if you have bargaining experience\, your presence at these trainings will allow your local and MEA members in your region to strategize together.\n \n \n \nDinner will be provided!\n \nSession I – Bargaining Basics\, Wednesday\, September 27th\n \nSession II – Contract Analysis & Proposal Preparation\, Wednesday\, October 11th\n \nSession III – Compensation & Health Insurance\, Wednesday\, October 25th\n \nSession IV – At the Table – Strategy and Behavior\, Wednesday\, November 8th
URL:https://maineea.org/event/negotiations-training-portland/
LOCATION:Clarion Hotel Airport\, 1230 Congress Street\, Portland\, ME\, 04102\, United States
ATTACH;FMTTYPE=image/jpeg:https://maineea.org/wp-content/uploads/2023/09/a360e1cd0218082936e6d93343357c78-xEpRe7.tmp_.jpg
END:VEVENT
BEGIN:VEVENT
DTSTART;TZID=America/New_York:20231011T153000
DTEND;TZID=America/New_York:20231011T163000
DTSTAMP:20240302T021126
CREATED:20231004T073431Z
LAST-MODIFIED:20231011T101200Z
UID:20613-1697038200-1697041800@maineea.org
SUMMARY:Bangor EA ESP Listening Tour
DESCRIPTION:Bangor EA ESP Listening Tour\n\n\nMEA wants to hear from our educational support professionals!  MEA Executive Director Rachelle Bristol and MEA President Grace Leavitt\, along with District 13 UniServ Director Emily Meier will be holding a listening tour. \nWe would like to connect with you\, understand your needs\, and work to find more ways to support you in the various important roles you have in our schools. We encourage you to invite a fellow ESP who has not yet joined MEA to attend the session with you.  We hope to have the chance for an open discussion as well as to answer questions you may have. \nThe event will be held in the Laurence E. Crofutt Community Room. Please be aware there is 1-hour parking in front of the library before 5pm. There is a parking lot across the street that costs approximately $0.50/hour. \nL﻿ight refreshments will be served.
URL:https://maineea.org/event/bangor-ea-esp-listening-tour/
LOCATION:Bangor Public Library\, 145 Harlow Street\, Bangor\, ME\, 04401\, United States
ATTACH;FMTTYPE=image/jpeg:https://maineea.org/wp-content/uploads/2023/10/555a4f81d85c47fc4431d986f951c580-K0v22x.tmp_.jpg
END:VEVENT
BEGIN:VEVENT
DTSTART;TZID=America/New_York:20231011T153000
DTEND;TZID=America/New_York:20231011T163000
DTSTAMP:20240302T021126
CREATED:20231004T073433Z
LAST-MODIFIED:20231011T101201Z
UID:20616-1697038200-1697041800@maineea.org
SUMMARY:Bangor EA ESP Listening Tour
DESCRIPTION:Bangor EA ESP Listening Tour\n\n\nMEA wants to hear from our educational support professionals!  MEA Executive Director Rachelle Bristol and MEA President Grace Leavitt\, along with District 13 UniServ Director Emily Meier will be holding a listening tour. \nWe would like to connect with you\, understand your needs\, and work to find more ways to support you in the various important roles you have in our schools. We encourage you to invite a fellow ESP who has not yet joined MEA to attend the session with you.  We hope to have the chance for an open discussion as well as to answer questions you may have. \nThe event will be held in the Laurence E. Crofutt Community Room. Please be aware there is 1-hour parking in front of the library before 5pm. There is a parking lot across the street that costs approximately $0.50/hour. \nL﻿ight refreshments will be served.
URL:https://maineea.org/event/bangor-ea-esp-listening-tour-2/
LOCATION:Bangor Public Library\, 145 Harlow Street\, Bangor\, ME\, 04401\, United States
ATTACH;FMTTYPE=image/jpeg:https://maineea.org/wp-content/uploads/2023/09/a360e1cd0218082936e6d93343357c78-xEpRe7.tmp_.jpg
END:VEVENT
BEGIN:VEVENT
DTSTART;TZID=America/New_York:20231011T153000
DTEND;TZID=America/New_York:20231011T163000
DTSTAMP:20240302T021126
CREATED:20231004T073435Z
LAST-MODIFIED:20231011T101202Z
UID:20617-1697038200-1697041800@maineea.org
SUMMARY:Bangor EA ESP Listening Tour
DESCRIPTION:Bangor EA ESP Listening Tour\n\n\nMEA wants to hear from our educational support professionals!  MEA Executive Director Rachelle Bristol and MEA President Grace Leavitt\, along with District 13 UniServ Director Emily Meier will be holding a listening tour. \nWe would like to connect with you\, understand your needs\, and work to find more ways to support you in the various important roles you have in our schools. We encourage you to invite a fellow ESP who has not yet joined MEA to attend the session with you.  We hope to have the chance for an open discussion as well as to answer questions you may have. \nThe event will be held in the Laurence E. Crofutt Community Room. Please be aware there is 1-hour parking in front of the library before 5pm. There is a parking lot across the street that costs approximately $0.50/hour. \nL﻿ight refreshments will be served.
URL:https://maineea.org/event/bangor-ea-esp-listening-tour-3/
LOCATION:Bangor Public Library\, 145 Harlow Street\, Bangor\, ME\, 04401\, United States
ATTACH;FMTTYPE=image/jpeg:https://maineea.org/wp-content/uploads/2023/09/3c5cb8b0e7c7ed56191be3af5344f360-1SRweX.tmp_.jpg
END:VEVENT
BEGIN:VEVENT
DTSTART;TZID=America/New_York:20231011T163000
DTEND;TZID=America/New_York:20231011T203000
DTSTAMP:20240302T021126
CREATED:20231005T075510Z
LAST-MODIFIED:20231011T101204Z
UID:20689-1697041800-1697056200@maineea.org
SUMMARY:District 9 Negotiation Training Blue Hill Area
DESCRIPTION:Please join us for a four-part\, comprehensive negotiations training series.\n\n\nPlease join us for a four-part\, comprehensive negotiations training series. This training is especially beneficial for those who are at the bargaining table this year but is open to all local negotiation’s teams. \nIf you are bargaining this year\, it is critical that your local’s Chief Negotiator and entire bargaining team commit to attend ALL FOUR sessions! Participation in these trainings is vital to your success at the bargaining table.  Even if you have bargaining experience\, your presence at these trainings will allow your local and MEA members in your region to strategize together.
URL:https://maineea.org/event/district-9-negotiation-training-blue-hill-area-2/
LOCATION:Marlintini’s Grill\, 83 Mines Road\, Blue Hill\, ME\, 04614\, United States
ATTACH;FMTTYPE=image/jpeg:https://maineea.org/wp-content/uploads/2023/09/72828408868717823700f649a285c9b4-Ez43g3.tmp_.jpg
END:VEVENT
END:VCALENDAR