BEGIN:VCALENDAR
VERSION:2.0
PRODID:-//Maine Education Association - ECPv6.3.3.1//NONSGML v1.0//EN
CALSCALE:GREGORIAN
METHOD:PUBLISH
X-ORIGINAL-URL:https://maineea.org
X-WR-CALDESC:Events for Maine Education Association
REFRESH-INTERVAL;VALUE=DURATION:PT1H
X-Robots-Tag:noindex
X-PUBLISHED-TTL:PT1H
BEGIN:VTIMEZONE
TZID:America/New_York
BEGIN:DAYLIGHT
TZOFFSETFROM:-0500
TZOFFSETTO:-0400
TZNAME:EDT
DTSTART:20230312T070000
END:DAYLIGHT
BEGIN:STANDARD
TZOFFSETFROM:-0400
TZOFFSETTO:-0500
TZNAME:EST
DTSTART:20231105T060000
END:STANDARD
END:VTIMEZONE
BEGIN:VEVENT
DTSTART;TZID=America/New_York:20230927T163000
DTEND;TZID=America/New_York:20231108T193000
DTSTAMP:20240302T020927
CREATED:20230901T200146Z
LAST-MODIFIED:20231108T141207Z
UID:20303-1695832200-1699471800@maineea.org
SUMMARY:Negotiations Training Portland
DESCRIPTION:Negotiations Training 2023 Sessions 1-4\n\n\nNegotiation Training 2023\n \n \nPresented by MEA UniServ Directors\n \n \nPlease join for a four-part\, comprehensive negotiations training series. This training is especially beneficial for those who are at the bargaining table this year but is open to all local negotiations teams.\n \n \nIf you are bargaining this year\, it is critical that your local’s Chief Negotiator and entire bargaining team commit to attend ALL FOUR sessions! Participation in these trainings is vital to your success at the bargaining table.  Even if you have bargaining experience\, your presence at these trainings will allow your local and MEA members in your region to strategize together.\n \n \n \nDinner will be provided!\n \nSession I – Bargaining Basics\, Wednesday\, September 27th\n \nSession II – Contract Analysis & Proposal Preparation\, Wednesday\, October 11th\n \nSession III – Compensation & Health Insurance\, Wednesday\, October 25th\n \nSession IV – At the Table – Strategy and Behavior\, Wednesday\, November 8th
URL:https://maineea.org/event/negotiations-training-portland/
LOCATION:Clarion Hotel Airport\, 1230 Congress Street\, Portland\, ME\, 04102\, United States
ATTACH;FMTTYPE=image/jpeg:https://maineea.org/wp-content/uploads/2023/09/a360e1cd0218082936e6d93343357c78-xEpRe7.tmp_.jpg
END:VEVENT
BEGIN:VEVENT
DTSTART;TZID=America/New_York:20231024T150000
DTEND;TZID=America/New_York:20231024T180000
DTSTAMP:20240302T020927
CREATED:20231008T090219Z
LAST-MODIFIED:20231018T182849Z
UID:20749-1698159600-1698170400@maineea.org
SUMMARY:Oxford Hills Fall Social
DESCRIPTION:Fall Social between MEA\, OHEA and OHESPA (appetizers provided\, cash bar available).
URL:https://maineea.org/event/oxford-hills-fall-social/
LOCATION:109 Main St\, 109 Main Street\, Norway\, ME\, 04268\, United States
ATTACH;FMTTYPE=image/jpeg:https://maineea.org/wp-content/uploads/2023/10/3f54bf6b2e2094e9b55067661c4b1a45-ZAq3YM.tmp_.jpg
END:VEVENT
BEGIN:VEVENT
DTSTART;TZID=America/New_York:20231024T170000
DTEND;TZID=America/New_York:20231024T181500
DTSTAMP:20240302T020927
CREATED:20230831T195722Z
LAST-MODIFIED:20231024T090514Z
UID:20287-1698166800-1698171300@maineea.org
SUMMARY:Pre-Retirement Seminar - Session 2
DESCRIPTION:Fall Pre-Retirement Fall Seminars\n\n\nPre-Retirement Seminar – Session 2 \nThis session will be held on two evenings from 5:00 p.m. – 6:15 p.m. via Zoom.   \nOne evening will include:  Introduction to MEA-Retired\, a presentation by Maine Education Association Benefits Trust and the Social Security WEP/GPO program.      \nThe other evening will include: Introduction to MEA-Retired and a presentation by MainePERS.  \n SESSION 2 \n•	Tuesday\, October 24\, 2023  MEA-Retired\, MEA Benefit Trust\, WEP/GPO \n•	Wednesday\, October 25\, 2023  MEA-Retired\, MainePERS \nThe link to access the Zoom meeting\, along with the materials from MainePERS\, MEA Benefits Trust\, MEA-Retired and Horace Mann will be emailed to the email address used during registration.  This email will be sent the day before your session. The meeting link will be used for both nights of your session.
URL:https://maineea.org/event/pre-retirement-seminar-session-2/
LOCATION:ME
ATTACH;FMTTYPE=image/jpeg:https://maineea.org/wp-content/uploads/2023/08/1d238d272da83d37200035740742062f-Naxqi7.tmp_.jpg
END:VEVENT
END:VCALENDAR