BEGIN:VCALENDAR
VERSION:2.0
PRODID:-//Maine Education Association - ECPv6.3.3.1//NONSGML v1.0//EN
CALSCALE:GREGORIAN
METHOD:PUBLISH
X-ORIGINAL-URL:https://maineea.org
X-WR-CALDESC:Events for Maine Education Association
REFRESH-INTERVAL;VALUE=DURATION:PT1H
X-Robots-Tag:noindex
X-PUBLISHED-TTL:PT1H
BEGIN:VTIMEZONE
TZID:America/New_York
BEGIN:DAYLIGHT
TZOFFSETFROM:-0500
TZOFFSETTO:-0400
TZNAME:EDT
DTSTART:20230312T070000
END:DAYLIGHT
BEGIN:STANDARD
TZOFFSETFROM:-0400
TZOFFSETTO:-0500
TZNAME:EST
DTSTART:20231105T060000
END:STANDARD
END:VTIMEZONE
BEGIN:VEVENT
DTSTART;TZID=America/New_York:20230927T163000
DTEND;TZID=America/New_York:20231108T193000
DTSTAMP:20240302T020817
CREATED:20230901T200146Z
LAST-MODIFIED:20231108T141207Z
UID:20303-1695832200-1699471800@maineea.org
SUMMARY:Negotiations Training Portland
DESCRIPTION:Negotiations Training 2023 Sessions 1-4\n\n\nNegotiation Training 2023\n \n \nPresented by MEA UniServ Directors\n \n \nPlease join for a four-part\, comprehensive negotiations training series. This training is especially beneficial for those who are at the bargaining table this year but is open to all local negotiations teams.\n \n \nIf you are bargaining this year\, it is critical that your local’s Chief Negotiator and entire bargaining team commit to attend ALL FOUR sessions! Participation in these trainings is vital to your success at the bargaining table.  Even if you have bargaining experience\, your presence at these trainings will allow your local and MEA members in your region to strategize together.\n \n \n \nDinner will be provided!\n \nSession I – Bargaining Basics\, Wednesday\, September 27th\n \nSession II – Contract Analysis & Proposal Preparation\, Wednesday\, October 11th\n \nSession III – Compensation & Health Insurance\, Wednesday\, October 25th\n \nSession IV – At the Table – Strategy and Behavior\, Wednesday\, November 8th
URL:https://maineea.org/event/negotiations-training-portland/
LOCATION:Clarion Hotel Airport\, 1230 Congress Street\, Portland\, ME\, 04102\, United States
ATTACH;FMTTYPE=image/jpeg:https://maineea.org/wp-content/uploads/2023/09/a360e1cd0218082936e6d93343357c78-xEpRe7.tmp_.jpg
END:VEVENT
BEGIN:VEVENT
DTSTART;TZID=America/New_York:20231030T190000
DTEND;TZID=America/New_York:20231030T220000
DTSTAMP:20240302T020817
CREATED:20231001T064147Z
LAST-MODIFIED:20231030T132954Z
UID:20570-1698692400-1698703200@maineea.org
SUMMARY:Sample
DESCRIPTION:
URL:https://maineea.org/event/sample/
LOCATION:Duffy’s Tavern & Grill\, 4 Main Street\, Kennebunk\, ME\, 04043\, United States
END:VEVENT
END:VCALENDAR