BEGIN:VCALENDAR
VERSION:2.0
PRODID:-//Maine Education Association - ECPv6.3.3.1//NONSGML v1.0//EN
CALSCALE:GREGORIAN
METHOD:PUBLISH
X-WR-CALNAME:Maine Education Association
X-ORIGINAL-URL:https://maineea.org
X-WR-CALDESC:Events for Maine Education Association
REFRESH-INTERVAL;VALUE=DURATION:PT1H
X-Robots-Tag:noindex
X-PUBLISHED-TTL:PT1H
BEGIN:VTIMEZONE
TZID:America/New_York
BEGIN:DAYLIGHT
TZOFFSETFROM:-0500
TZOFFSETTO:-0400
TZNAME:EDT
DTSTART:20230312T070000
END:DAYLIGHT
BEGIN:STANDARD
TZOFFSETFROM:-0400
TZOFFSETTO:-0500
TZNAME:EST
DTSTART:20231105T060000
END:STANDARD
END:VTIMEZONE
BEGIN:VEVENT
DTSTART;VALUE=DATE:20231110
DTEND;VALUE=DATE:20231111
DTSTAMP:20240302T020622
CREATED:20230720T144352Z
LAST-MODIFIED:20230720T144352Z
UID:19829-1699574400-1699660799@maineea.org
SUMMARY:MEA Offices Closed
DESCRIPTION:
URL:https://maineea.org/event/mea-offices-closed-3/
LOCATION:ME
CATEGORIES:Governance
END:VEVENT
BEGIN:VEVENT
DTSTART;TZID=America/New_York:20231110T090000
DTEND;TZID=America/New_York:20231110T150000
DTSTAMP:20240302T020622
CREATED:20231018T182855Z
LAST-MODIFIED:20231108T141213Z
UID:21012-1699606800-1699628400@maineea.org
SUMMARY:UD 08 Bargaining Training
DESCRIPTION:Please join UniServ Director Sarah Nichols for Bargaining Training!\n\n\nPlease join MEA UniServ Director Sarah Nichols for a comprehensive negotiations training. This training is geared for those who are at the bargaining table this year. It is strongly encouraged your local’s Chief Negotiator and bargaining team members make a commitment to attend the full session! Participation in this training is vital to your success at the bargaining table!
URL:https://maineea.org/event/ud-08-bargaining-training/
LOCATION:Ridge View Community School\, 175 Fern Street\, Dexter\, ME\, 04930\, United States
ATTACH;FMTTYPE=image/jpeg:https://maineea.org/wp-content/uploads/2023/10/fd85a13eb907261cb4edef0825e32936-analdx.tmp_.jpg
END:VEVENT
END:VCALENDAR