BEGIN:VCALENDAR
VERSION:2.0
PRODID:-//Maine Education Association - ECPv6.3.3.1//NONSGML v1.0//EN
CALSCALE:GREGORIAN
METHOD:PUBLISH
X-ORIGINAL-URL:https://maineea.org
X-WR-CALDESC:Events for Maine Education Association
REFRESH-INTERVAL;VALUE=DURATION:PT1H
X-Robots-Tag:noindex
X-PUBLISHED-TTL:PT1H
BEGIN:VTIMEZONE
TZID:America/New_York
BEGIN:DAYLIGHT
TZOFFSETFROM:-0500
TZOFFSETTO:-0400
TZNAME:EDT
DTSTART:20230312T070000
END:DAYLIGHT
BEGIN:STANDARD
TZOFFSETFROM:-0400
TZOFFSETTO:-0500
TZNAME:EST
DTSTART:20231105T060000
END:STANDARD
END:VTIMEZONE
BEGIN:VEVENT
DTSTART;TZID=America/New_York:20231129T163000
DTEND;TZID=America/New_York:20231129T193000
DTSTAMP:20240302T011728
CREATED:20231104T131448Z
LAST-MODIFIED:20231129T081049Z
UID:21118-1701275400-1701286200@maineea.org
SUMMARY:UD 5 Grievance Handling & Contract Protection
DESCRIPTION:Association representative role and responsibilities.\n\n\nThis training will provide the fundamental knowledge and leadership skills you need to support and represent your fellow members. \nWe’ll take an in depth look at the roles and responsibilities of a Union Rep\, the ABC’s of advocacy\, and a discussion about why building our membership matters and how to strengthen your Association through advocacy.
URL:https://maineea.org/event/ud-5-grievance-handling-contract-protection/
LOCATION:Montsweag Restaurant\, 942 U.S. 1\, Woolwich\, ME\, 04579\, United States
ATTACH;FMTTYPE=image/jpeg:https://maineea.org/wp-content/uploads/2023/11/8cffa2ed9a35ec71e767d3ee286735aa-EReLL2.tmp_.jpg
END:VEVENT
END:VCALENDAR