BEGIN:VCALENDAR
VERSION:2.0
PRODID:-//Maine Education Association - ECPv6.3.3.1//NONSGML v1.0//EN
CALSCALE:GREGORIAN
METHOD:PUBLISH
X-ORIGINAL-URL:https://maineea.org
X-WR-CALDESC:Events for Maine Education Association
REFRESH-INTERVAL;VALUE=DURATION:PT1H
X-Robots-Tag:noindex
X-PUBLISHED-TTL:PT1H
BEGIN:VTIMEZONE
TZID:America/New_York
BEGIN:DAYLIGHT
TZOFFSETFROM:-0500
TZOFFSETTO:-0400
TZNAME:EDT
DTSTART:20230312T070000
END:DAYLIGHT
BEGIN:STANDARD
TZOFFSETFROM:-0400
TZOFFSETTO:-0500
TZNAME:EST
DTSTART:20231105T060000
END:STANDARD
END:VTIMEZONE
BEGIN:VEVENT
DTSTART;VALUE=DATE:20231202
DTEND;VALUE=DATE:20231203
DTSTAMP:20240302T011729
CREATED:20230720T144421Z
LAST-MODIFIED:20231018T165413Z
UID:19835-1701475200-1701561599@maineea.org
SUMMARY:MEA Winter Conference
DESCRIPTION:REGISTER \nJoin us at “Winter EdVenture\,” an enriching conference designed exclusively for MEA members! Delve into a wide range of sessions that promise to enhance your professional journey. From “Mentoring for Retention” to “Leaders for Just Schools\,” we’re covering the essential topics you need to excel in your role. \nDiscover strategies for certification\, harness the power of membership data\, and gain insights into working with multi-lingual learners. Explore behavioral interventions\, learn about Equality Maine initiatives\, and discover effective interventions for chronic absenteeism. \nElevate your impact by focusing on school culture and delve into the world of Ed Techs with our 101 Training. Don’t miss out on this opportunity to expand your knowledge and connect with fellow educators!
URL:https://maineea.org/event/mea-winter-conference-2/
LOCATION:ME
CATEGORIES:Governance,Professional Development
ATTACH;FMTTYPE=image/png:https://maineea.org/wp-content/uploads/2023/07/Winter-EdVentures-01_smaller.png
END:VEVENT
END:VCALENDAR