BEGIN:VCALENDAR
VERSION:2.0
PRODID:-//Maine Education Association - ECPv6.3.3.1//NONSGML v1.0//EN
CALSCALE:GREGORIAN
METHOD:PUBLISH
X-WR-CALNAME:Maine Education Association
X-ORIGINAL-URL:https://maineea.org
X-WR-CALDESC:Events for Maine Education Association
REFRESH-INTERVAL;VALUE=DURATION:PT1H
X-Robots-Tag:noindex
X-PUBLISHED-TTL:PT1H
BEGIN:VTIMEZONE
TZID:America/New_York
BEGIN:DAYLIGHT
TZOFFSETFROM:-0500
TZOFFSETTO:-0400
TZNAME:EDT
DTSTART:20240310T070000
END:DAYLIGHT
BEGIN:STANDARD
TZOFFSETFROM:-0400
TZOFFSETTO:-0500
TZNAME:EST
DTSTART:20241103T060000
END:STANDARD
END:VTIMEZONE
BEGIN:VEVENT
DTSTART;TZID=America/New_York:20240109T170000
DTEND;TZID=America/New_York:20240109T181500
DTSTAMP:20240302T003844
CREATED:20231028T130917Z
LAST-MODIFIED:20240109T165000Z
UID:21081-1704819600-1704824100@maineea.org
SUMMARY:Pre-Retirement Seminar - Session 3
DESCRIPTION:Winter Pre-Retirement Seminars\n\n\nPre-Retirement Seminar – Session 3 \nThis session will be held on two evenings from 5:00 p.m. – 6:15 p.m. via Zoom.   \nOne evening will include:  Introduction to MEA-Retired\, a presentation by Maine Education Association Benefits Trust and the Social Security WEP/GPO program.      \nThe other evening will include: Introduction to MEA-Retired and a presentation by MainePERS.  \n SESSION 3 \n•	Tuesday\, January 9\, 2024  MEA-Retired\, MEA Benefit Trust\, WEP/GPO \n•	Wednesday\, January 10\, 2024  MEA-Retired\, MainePERS \nThe link to access the Zoom meeting\, along with the materials from MainePERS\, MEA Benefits Trust\, MEA-Retired and Horace Mann will be emailed to the email address used during registration.  This email will be sent the day before your session. The meeting link will be used for both nights of your session.
URL:https://maineea.org/event/pre-retirement-seminar-session-3-4/
LOCATION:ME
ATTACH;FMTTYPE=image/jpeg:https://maineea.org/wp-content/uploads/2023/08/1f2471c4ceb291ed2069099c6932ffca-P0yBdI.tmp_.jpg
END:VEVENT
BEGIN:VEVENT
DTSTART;TZID=America/New_York:20240109T190000
DTEND;TZID=America/New_York:20240109T190000
DTSTAMP:20240302T003844
CREATED:20230720T144454Z
LAST-MODIFIED:20230720T144454Z
UID:19846-1704826800-1704826800@maineea.org
SUMMARY:MEA President's Virtual Office Hours
DESCRIPTION:
URL:https://maineea.org/event/mea-presidents-virtual-office-hours-5/
LOCATION:ME
CATEGORIES:Governance
END:VEVENT
END:VCALENDAR