BEGIN:VCALENDAR
VERSION:2.0
PRODID:-//Maine Education Association - ECPv6.3.3.1//NONSGML v1.0//EN
CALSCALE:GREGORIAN
METHOD:PUBLISH
X-WR-CALNAME:Maine Education Association
X-ORIGINAL-URL:https://maineea.org
X-WR-CALDESC:Events for Maine Education Association
REFRESH-INTERVAL;VALUE=DURATION:PT1H
X-Robots-Tag:noindex
X-PUBLISHED-TTL:PT1H
BEGIN:VTIMEZONE
TZID:America/New_York
BEGIN:DAYLIGHT
TZOFFSETFROM:-0500
TZOFFSETTO:-0400
TZNAME:EDT
DTSTART:20240310T070000
END:DAYLIGHT
BEGIN:STANDARD
TZOFFSETFROM:-0400
TZOFFSETTO:-0500
TZNAME:EST
DTSTART:20241103T060000
END:STANDARD
END:VTIMEZONE
BEGIN:VEVENT
DTSTART;TZID=America/New_York:20240123T163000
DTEND;TZID=America/New_York:20240123T193000
DTSTAMP:20240302T003837
CREATED:20231215T170142Z
LAST-MODIFIED:20240123T102010Z
UID:21366-1706027400-1706038200@maineea.org
SUMMARY:UD 4 & UD 5 Dangerous Behavior and Prevention Law Training
DESCRIPTION:Join us for this important training on the Dangerous Behavior and Prevention Law that the MEA helped pass to increase workplace safety.\n\n\nJoin us for this important training on the Dangerous Behavior and Prevention Law.
URL:https://maineea.org/event/ud-5-dangerous-behavior-and-prevention-law/
LOCATION:Montsweag Restaurant\, 942 U.S. 1\, Woolwich\, ME\, 04579\, United States
END:VEVENT
END:VCALENDAR