BEGIN:VCALENDAR
VERSION:2.0
PRODID:-//Maine Education Association - ECPv6.15.20//NONSGML v1.0//EN
CALSCALE:GREGORIAN
METHOD:PUBLISH
X-ORIGINAL-URL:https://maineea.org
X-WR-CALDESC:Events for Maine Education Association
REFRESH-INTERVAL;VALUE=DURATION:PT1H
X-Robots-Tag:noindex
X-PUBLISHED-TTL:PT1H
BEGIN:VTIMEZONE
TZID:America/New_York
BEGIN:DAYLIGHT
TZOFFSETFROM:-0500
TZOFFSETTO:-0400
TZNAME:EDT
DTSTART:20240310T070000
END:DAYLIGHT
BEGIN:STANDARD
TZOFFSETFROM:-0400
TZOFFSETTO:-0500
TZNAME:EST
DTSTART:20241103T060000
END:STANDARD
BEGIN:DAYLIGHT
TZOFFSETFROM:-0500
TZOFFSETTO:-0400
TZNAME:EDT
DTSTART:20250309T070000
END:DAYLIGHT
BEGIN:STANDARD
TZOFFSETFROM:-0400
TZOFFSETTO:-0500
TZNAME:EST
DTSTART:20251102T060000
END:STANDARD
BEGIN:DAYLIGHT
TZOFFSETFROM:-0500
TZOFFSETTO:-0400
TZNAME:EDT
DTSTART:20260308T070000
END:DAYLIGHT
BEGIN:STANDARD
TZOFFSETFROM:-0400
TZOFFSETTO:-0500
TZNAME:EST
DTSTART:20261101T060000
END:STANDARD
END:VTIMEZONE
BEGIN:VEVENT
DTSTART;TZID=America/New_York:20251202T163000
DTEND;TZID=America/New_York:20251202T190000
DTSTAMP:20260424T173756
CREATED:20251109T215710Z
LAST-MODIFIED:20251202T060731Z
UID:26885-1764693000-1764702000@maineea.org
SUMMARY:District 7 Dangerous Behavior and Prevention Training
DESCRIPTION:Learn more about The Dangerous Behavior and Prevention and Intervention Law.\n\n\nPlease join Melissa Statman\, MEA UniServ Director\, District 7 to learn more about The Dangerous Behavior and Prevention and Intervention Law. \nTo help increase workplace and student safety\, MEA helped pass the Dangerous Behavior and Prevention and Intervention Law. Among other things\, the law: \n\nProtects your paycheck and sick time\, if a dangerous behavior is substantiated and a staff person is injured.\nRequires administration to work with the union to develop action plans that keep students and staff safe.\n\nAfter the training\, you will know: \n\nWhat constitutes a dangerous behavior.\nWhat protections are in place and covered by the law.\nThe protocols your district should have in place.\nHow your union can ensure administration is held accountable in addressing dangerous behavior.\nHow to navigate the report process.
URL:https://maineea.org/event/district-7-dangerous-behavior-and-prevention-training/
LOCATION:Maine Education Association\, 35 Community Drive\, Augusta\, ME\, 04330\, United States
ATTACH;FMTTYPE=image/jpeg:https://maineea.org/wp-content/uploads/2025/11/18c602043b4afdc5892d4426cf88b31f-stOgtZ.tmp_.jpg
END:VEVENT
END:VCALENDAR