BEGIN:VCALENDAR
VERSION:2.0
PRODID:-//Maine Education Association - ECPv6.15.20//NONSGML v1.0//EN
CALSCALE:GREGORIAN
METHOD:PUBLISH
X-ORIGINAL-URL:https://maineea.org
X-WR-CALDESC:Events for Maine Education Association
REFRESH-INTERVAL;VALUE=DURATION:PT1H
X-Robots-Tag:noindex
X-PUBLISHED-TTL:PT1H
BEGIN:VTIMEZONE
TZID:America/New_York
BEGIN:DAYLIGHT
TZOFFSETFROM:-0500
TZOFFSETTO:-0400
TZNAME:EDT
DTSTART:20240310T070000
END:DAYLIGHT
BEGIN:STANDARD
TZOFFSETFROM:-0400
TZOFFSETTO:-0500
TZNAME:EST
DTSTART:20241103T060000
END:STANDARD
BEGIN:DAYLIGHT
TZOFFSETFROM:-0500
TZOFFSETTO:-0400
TZNAME:EDT
DTSTART:20250309T070000
END:DAYLIGHT
BEGIN:STANDARD
TZOFFSETFROM:-0400
TZOFFSETTO:-0500
TZNAME:EST
DTSTART:20251102T060000
END:STANDARD
BEGIN:DAYLIGHT
TZOFFSETFROM:-0500
TZOFFSETTO:-0400
TZNAME:EDT
DTSTART:20260308T070000
END:DAYLIGHT
BEGIN:STANDARD
TZOFFSETFROM:-0400
TZOFFSETTO:-0500
TZNAME:EST
DTSTART:20261101T060000
END:STANDARD
END:VTIMEZONE
BEGIN:VEVENT
DTSTART;TZID=America/New_York:20251203T163000
DTEND;TZID=America/New_York:20251203T183000
DTSTAMP:20260424T173306
CREATED:20251119T102328Z
LAST-MODIFIED:20251202T060734Z
UID:26996-1764779400-1764786600@maineea.org
SUMMARY:UD 1 Sharing Holiday Cheer!
DESCRIPTION:Hear What’s Happening in District 1 & Around the State\n\n\nSharing Holiday Cheer \nPlease join fellow MEA local leaders and representatives to share holiday cheer! We will meet to hear what’s happening here in our UniServ district and around the state. Most importantly\, we’ll have plenty of time to network and enjoy each other’s company as winter approaches. \nDinner will be provided.
URL:https://maineea.org/event/ud-1-sharing-holiday-cheer/
LOCATION:Duffy’s Tavern & Grill\, 4 Main Street\, Kennebunk\, ME\, 04043\, United States
ATTACH;FMTTYPE=image/jpeg:https://maineea.org/wp-content/uploads/2023/08/e8108057b287c5ab6b72dccd4d937e0e-fDI8DZ.tmp_.jpg
END:VEVENT
END:VCALENDAR