BEGIN:VCALENDAR
VERSION:2.0
PRODID:-//Maine Education Association - ECPv6.15.20//NONSGML v1.0//EN
CALSCALE:GREGORIAN
METHOD:PUBLISH
X-WR-CALNAME:Maine Education Association
X-ORIGINAL-URL:https://maineea.org
X-WR-CALDESC:Events for Maine Education Association
REFRESH-INTERVAL;VALUE=DURATION:PT1H
X-Robots-Tag:noindex
X-PUBLISHED-TTL:PT1H
BEGIN:VTIMEZONE
TZID:America/New_York
BEGIN:DAYLIGHT
TZOFFSETFROM:-0500
TZOFFSETTO:-0400
TZNAME:EDT
DTSTART:20240310T070000
END:DAYLIGHT
BEGIN:STANDARD
TZOFFSETFROM:-0400
TZOFFSETTO:-0500
TZNAME:EST
DTSTART:20241103T060000
END:STANDARD
BEGIN:DAYLIGHT
TZOFFSETFROM:-0500
TZOFFSETTO:-0400
TZNAME:EDT
DTSTART:20250309T070000
END:DAYLIGHT
BEGIN:STANDARD
TZOFFSETFROM:-0400
TZOFFSETTO:-0500
TZNAME:EST
DTSTART:20251102T060000
END:STANDARD
BEGIN:DAYLIGHT
TZOFFSETFROM:-0500
TZOFFSETTO:-0400
TZNAME:EDT
DTSTART:20260308T070000
END:DAYLIGHT
BEGIN:STANDARD
TZOFFSETFROM:-0400
TZOFFSETTO:-0500
TZNAME:EST
DTSTART:20261101T060000
END:STANDARD
END:VTIMEZONE
BEGIN:VEVENT
DTSTART;TZID=America/New_York:20251210T160000
DTEND;TZID=America/New_York:20251210T180000
DTSTAMP:20260424T172321
CREATED:20251109T215711Z
LAST-MODIFIED:20251210T150514Z
UID:26887-1765382400-1765389600@maineea.org
SUMMARY:District 9 Grievance Training 2025
DESCRIPTION:Advocacy is the foundation of union activism\n\n\nAdvocacy is the foundation of union activism. Come explore what advocacy is and the many types of advocacy locals engage as you learn the nuts and bolts of grievance handling. Topics include: the role and rights of union “stewards”\, Weingarten rights\, complaints and investigations\, and the grievance process. Participants will leave with the skills to advocate for members to build local union power. \nThis training is open to ALL association leaders and members interested in becoming an advocate in the future. Your union’s power comes from its members and is directly related to the number of members who are active participants in our union work. Whether you’re a seasoned local leader or new to union advocacy and hoping to learn more\, this is the training for you!
URL:https://maineea.org/event/district-9-grievance-training-2025/
LOCATION:ME
ATTACH;FMTTYPE=image/jpeg:https://maineea.org/wp-content/uploads/2025/11/6a3cb70230616e47cfabc74604fbc4a6-RwtfCt.tmp_.jpg
END:VEVENT
END:VCALENDAR