BEGIN:VCALENDAR
VERSION:2.0
PRODID:-//Maine Education Association - ECPv6.15.20//NONSGML v1.0//EN
CALSCALE:GREGORIAN
METHOD:PUBLISH
X-ORIGINAL-URL:https://maineea.org
X-WR-CALDESC:Events for Maine Education Association
REFRESH-INTERVAL;VALUE=DURATION:PT1H
X-Robots-Tag:noindex
X-PUBLISHED-TTL:PT1H
BEGIN:VTIMEZONE
TZID:America/New_York
BEGIN:DAYLIGHT
TZOFFSETFROM:-0500
TZOFFSETTO:-0400
TZNAME:EDT
DTSTART:20250309T070000
END:DAYLIGHT
BEGIN:STANDARD
TZOFFSETFROM:-0400
TZOFFSETTO:-0500
TZNAME:EST
DTSTART:20251102T060000
END:STANDARD
BEGIN:DAYLIGHT
TZOFFSETFROM:-0500
TZOFFSETTO:-0400
TZNAME:EDT
DTSTART:20260308T070000
END:DAYLIGHT
BEGIN:STANDARD
TZOFFSETFROM:-0400
TZOFFSETTO:-0500
TZNAME:EST
DTSTART:20261101T060000
END:STANDARD
BEGIN:DAYLIGHT
TZOFFSETFROM:-0500
TZOFFSETTO:-0400
TZNAME:EDT
DTSTART:20270314T070000
END:DAYLIGHT
BEGIN:STANDARD
TZOFFSETFROM:-0400
TZOFFSETTO:-0500
TZNAME:EST
DTSTART:20271107T060000
END:STANDARD
END:VTIMEZONE
BEGIN:VEVENT
DTSTART;TZID=America/New_York:20260122T163000
DTEND;TZID=America/New_York:20260122T190000
DTSTAMP:20260424T153531
CREATED:20260107T122010Z
LAST-MODIFIED:20260122T141406Z
UID:27459-1769099400-1769108400@maineea.org
SUMMARY:UD 12 Governance Networking Meeting!
DESCRIPTION:Please join your MEA Board of Director\, Lauren Remington\, to share/hear what is happening within your Local and your State.
URL:https://maineea.org/event/ud-12-governance-networking-meeting-2/
LOCATION:Helen’s Restaurant\, 111 Main Street\, Machias\, ME\, 04654\, United States
ATTACH;FMTTYPE=image/jpeg:https://maineea.org/wp-content/uploads/2026/01/4b8807bf4ee038cc30ba8428f39c9cc0-zCRZih.tmp_.jpg
END:VEVENT
END:VCALENDAR