BEGIN:VCALENDAR
VERSION:2.0
PRODID:-//Maine Education Association - ECPv6.15.20//NONSGML v1.0//EN
CALSCALE:GREGORIAN
METHOD:PUBLISH
X-ORIGINAL-URL:https://maineea.org
X-WR-CALDESC:Events for Maine Education Association
REFRESH-INTERVAL;VALUE=DURATION:PT1H
X-Robots-Tag:noindex
X-PUBLISHED-TTL:PT1H
BEGIN:VTIMEZONE
TZID:America/New_York
BEGIN:DAYLIGHT
TZOFFSETFROM:-0500
TZOFFSETTO:-0400
TZNAME:EDT
DTSTART:20250309T070000
END:DAYLIGHT
BEGIN:STANDARD
TZOFFSETFROM:-0400
TZOFFSETTO:-0500
TZNAME:EST
DTSTART:20251102T060000
END:STANDARD
BEGIN:DAYLIGHT
TZOFFSETFROM:-0500
TZOFFSETTO:-0400
TZNAME:EDT
DTSTART:20260308T070000
END:DAYLIGHT
BEGIN:STANDARD
TZOFFSETFROM:-0400
TZOFFSETTO:-0500
TZNAME:EST
DTSTART:20261101T060000
END:STANDARD
BEGIN:DAYLIGHT
TZOFFSETFROM:-0500
TZOFFSETTO:-0400
TZNAME:EDT
DTSTART:20270314T070000
END:DAYLIGHT
BEGIN:STANDARD
TZOFFSETFROM:-0400
TZOFFSETTO:-0500
TZNAME:EST
DTSTART:20271107T060000
END:STANDARD
END:VTIMEZONE
BEGIN:VEVENT
DTSTART;TZID=America/New_York:20260319T170000
DTEND;TZID=America/New_York:20260319T190000
DTSTAMP:20260424T124108
CREATED:20260220T075743Z
LAST-MODIFIED:20260319T150051Z
UID:27857-1773939600-1773946800@maineea.org
SUMMARY:UD 11 Governance Meeting
DESCRIPTION:UD 11 Governance Meeting is a casual in-person chat to sort out key governance stuff together.\n\n\nUD 11 Governance Meeting\nJoin us for the UD 11 Governance Meeting\, an in-person gathering where key decisions are made and ideas come to life. It’s the perfect chance to connect\, collaborate\, and contribute to the future of UD 11. Don’t miss out on being part of the conversation and making your voice heard!
URL:https://maineea.org/event/ud-11-governance-meeting-2/
LOCATION:Pat’s Pizza\, 1 Main Road\, Holden\, ME\, 04429\, United States
ATTACH;FMTTYPE=image/jpeg:https://maineea.org/wp-content/uploads/2026/02/2ac2009dc7c62e4a07f9cdf75304f59e-qJpP9q.tmp_.jpg
END:VEVENT
BEGIN:VEVENT
DTSTART;TZID=America/New_York:20260319T170000
DTEND;TZID=America/New_York:20260319T190000
DTSTAMP:20260424T124108
CREATED:20260303T201246Z
LAST-MODIFIED:20260319T150053Z
UID:27938-1773939600-1773946800@maineea.org
SUMMARY:UD 11 Governance Meeting
DESCRIPTION:Join your fellow MEA members for a Governance Networking Opportunity! You will meet other local leaders and your MEA Board members.
URL:https://maineea.org/event/ud-11-governance-meeting-3/
LOCATION:Pat’s Pizza\, 1 Main Road\, Holden\, ME\, 04429\, United States
ATTACH;FMTTYPE=image/jpeg:https://maineea.org/wp-content/uploads/2026/03/dcd23fec46d782ab470839cf4001de0a-dTdczf.tmp_.jpg
END:VEVENT
END:VCALENDAR