BEGIN:VCALENDAR
VERSION:2.0
PRODID:-//Maine Education Association - ECPv6.3.3.1//NONSGML v1.0//EN
CALSCALE:GREGORIAN
METHOD:PUBLISH
X-ORIGINAL-URL:https://maineea.org
X-WR-CALDESC:Events for Maine Education Association
REFRESH-INTERVAL;VALUE=DURATION:PT1H
X-Robots-Tag:noindex
X-PUBLISHED-TTL:PT1H
BEGIN:VTIMEZONE
TZID:America/New_York
BEGIN:DAYLIGHT
TZOFFSETFROM:-0500
TZOFFSETTO:-0400
TZNAME:EDT
DTSTART:20230312T070000
END:DAYLIGHT
BEGIN:STANDARD
TZOFFSETFROM:-0400
TZOFFSETTO:-0500
TZNAME:EST
DTSTART:20231105T060000
END:STANDARD
END:VTIMEZONE
BEGIN:VEVENT
DTSTART;TZID=America/New_York:20231010T190000
DTEND;TZID=America/New_York:20231010T190000
DTSTAMP:20240302T011904
CREATED:20230720T144351Z
LAST-MODIFIED:20230720T144351Z
UID:19828-1696964400-1696964400@maineea.org
SUMMARY:MEA President's Virtual Office Hours
DESCRIPTION:
URL:https://maineea.org/event/mea-presidents-virtual-office-hours-2/
CATEGORIES:Governance
END:VEVENT
BEGIN:VEVENT
DTSTART;VALUE=DATE:20231009
DTEND;VALUE=DATE:20231010
DTSTAMP:20240302T011904
CREATED:20230720T144351Z
LAST-MODIFIED:20230720T144351Z
UID:19827-1696809600-1696895999@maineea.org
SUMMARY:MEA Offices Closed
DESCRIPTION:
URL:https://maineea.org/event/mea-offices-closed-2/
CATEGORIES:Governance
END:VEVENT
BEGIN:VEVENT
DTSTART;TZID=America/New_York:20230930T100000
DTEND;TZID=America/New_York:20230930T100000
DTSTAMP:20240302T011904
CREATED:20230720T144350Z
LAST-MODIFIED:20230720T144350Z
UID:19826-1696068000-1696068000@maineea.org
SUMMARY:MEA Committee Day
DESCRIPTION:
URL:https://maineea.org/event/mea-committee-day/
CATEGORIES:Governance
END:VEVENT
BEGIN:VEVENT
DTSTART;TZID=America/New_York:20230930T083000
DTEND;TZID=America/New_York:20230930T083000
DTSTAMP:20240302T011904
CREATED:20230720T144349Z
LAST-MODIFIED:20230828T171013Z
UID:19825-1696062600-1696062600@maineea.org
SUMMARY:Committee Chairs\, Board\, and Staff Liaisons Meet
DESCRIPTION:
URL:https://maineea.org/event/committee-chars-board-and-staff-liasons-meet/
CATEGORIES:Governance
END:VEVENT
BEGIN:VEVENT
DTSTART;VALUE=DATE:20230922
DTEND;VALUE=DATE:20230924
DTSTAMP:20240302T011904
CREATED:20230720T144337Z
LAST-MODIFIED:20230720T144337Z
UID:19824-1695340800-1695513599@maineea.org
SUMMARY:NEA Board of Directors Meeting
DESCRIPTION:
URL:https://maineea.org/event/nea-board-of-directors-meeting/
CATEGORIES:Governance
END:VEVENT
BEGIN:VEVENT
DTSTART;VALUE=DATE:20230919
DTEND;VALUE=DATE:20230925
DTSTAMP:20240302T011904
CREATED:20230720T144336Z
LAST-MODIFIED:20230720T144336Z
UID:19823-1695081600-1695599999@maineea.org
SUMMARY:NEA Superweek
DESCRIPTION:
URL:https://maineea.org/event/nea-superweek/
CATEGORIES:Governance
END:VEVENT
BEGIN:VEVENT
DTSTART;VALUE=DATE:20230916
DTEND;VALUE=DATE:20230918
DTSTAMP:20240302T011904
CREATED:20230720T144335Z
LAST-MODIFIED:20230720T144335Z
UID:19822-1694822400-1694995199@maineea.org
SUMMARY:MEA Board of Directors Meeting
DESCRIPTION:
URL:https://maineea.org/event/mea-board-of-directors-meeting/
CATEGORIES:Governance
END:VEVENT
BEGIN:VEVENT
DTSTART;VALUE=DATE:20230915
DTEND;VALUE=DATE:20230916
DTSTAMP:20240302T011904
CREATED:20230720T144334Z
LAST-MODIFIED:20230720T152423Z
UID:19821-1694736000-1694822399@maineea.org
SUMMARY:Clyde Russell Scholarship Meeting
DESCRIPTION:
URL:https://maineea.org/event/clyde-russell-scholarship-meeting/
CATEGORIES:Governance
END:VEVENT
BEGIN:VEVENT
DTSTART;VALUE=DATE:20230915
DTEND;VALUE=DATE:20230916
DTSTAMP:20240302T011904
CREATED:20230720T144333Z
LAST-MODIFIED:20230720T152414Z
UID:19820-1694736000-1694822399@maineea.org
SUMMARY:MEA Board Policy Committee Meeting
DESCRIPTION:
URL:https://maineea.org/event/mea-board-policy-committee-meeting-2/
CATEGORIES:Governance
END:VEVENT
BEGIN:VEVENT
DTSTART;TZID=America/New_York:20230912T190000
DTEND;TZID=America/New_York:20230912T190000
DTSTAMP:20240302T011904
CREATED:20230720T144331Z
LAST-MODIFIED:20230720T144331Z
UID:19819-1694545200-1694545200@maineea.org
SUMMARY:MEA President's Virtual Office Hours
DESCRIPTION:
URL:https://maineea.org/event/mea-presidents-virtual-office-hours/
CATEGORIES:Governance
END:VEVENT
BEGIN:VEVENT
DTSTART;VALUE=DATE:20230909
DTEND;VALUE=DATE:20230910
DTSTAMP:20240302T011904
CREATED:20230720T144330Z
LAST-MODIFIED:20230720T144330Z
UID:19818-1694217600-1694303999@maineea.org
SUMMARY:MEA -Retired Day of Caring
DESCRIPTION:
URL:https://maineea.org/event/mea-retired-day-of-caring/
CATEGORIES:Governance
END:VEVENT
BEGIN:VEVENT
DTSTART;VALUE=DATE:20230904
DTEND;VALUE=DATE:20230905
DTSTAMP:20240302T011904
CREATED:20230720T144329Z
LAST-MODIFIED:20230720T144329Z
UID:19817-1693785600-1693871999@maineea.org
SUMMARY:MEA Offices Closed
DESCRIPTION:
URL:https://maineea.org/event/mea-offices-closed/
CATEGORIES:Governance
END:VEVENT
BEGIN:VEVENT
DTSTART;VALUE=DATE:20230731
DTEND;VALUE=DATE:20230801
DTSTAMP:20240302T011904
CREATED:20230720T144328Z
LAST-MODIFIED:20230720T144328Z
UID:19816-1690761600-1690847999@maineea.org
SUMMARY:President/Treasurer Training\, Portland
DESCRIPTION:
URL:https://maineea.org/event/president-treasurer-training-portland/
CATEGORIES:Governance
END:VEVENT
END:VCALENDAR