BEGIN:VCALENDAR
VERSION:2.0
PRODID:-//Maine Education Association - ECPv6.3.3.1//NONSGML v1.0//EN
CALSCALE:GREGORIAN
METHOD:PUBLISH
X-ORIGINAL-URL:https://maineea.org
X-WR-CALDESC:Events for Maine Education Association
REFRESH-INTERVAL;VALUE=DURATION:PT1H
X-Robots-Tag:noindex
X-PUBLISHED-TTL:PT1H
BEGIN:VTIMEZONE
TZID:America/New_York
BEGIN:DAYLIGHT
TZOFFSETFROM:-0500
TZOFFSETTO:-0400
TZNAME:EDT
DTSTART:20240310T070000
END:DAYLIGHT
BEGIN:STANDARD
TZOFFSETFROM:-0400
TZOFFSETTO:-0500
TZNAME:EST
DTSTART:20241103T060000
END:STANDARD
END:VTIMEZONE
BEGIN:VEVENT
DTSTART;VALUE=DATE:20240619
DTEND;VALUE=DATE:20240620
DTSTAMP:20240302T005227
CREATED:20230720T145556Z
LAST-MODIFIED:20230720T145556Z
UID:19894-1718755200-1718841599@maineea.org
SUMMARY:MEA Offices Closed
DESCRIPTION:
URL:https://maineea.org/event/mea-offices-closed-9/
CATEGORIES:Governance
END:VEVENT
BEGIN:VEVENT
DTSTART;VALUE=DATE:20240624
DTEND;VALUE=DATE:20240625
DTSTAMP:20240302T005227
CREATED:20230720T145753Z
LAST-MODIFIED:20230720T145753Z
UID:19895-1719187200-1719273599@maineea.org
SUMMARY:Maine Delegation to NEA RA
DESCRIPTION:
URL:https://maineea.org/event/maine-delegation-to-nea-ra/
CATEGORIES:Governance
END:VEVENT
BEGIN:VEVENT
DTSTART;VALUE=DATE:20240629
DTEND;VALUE=DATE:20240703
DTSTAMP:20240302T005227
CREATED:20230720T145754Z
LAST-MODIFIED:20230720T145754Z
UID:19896-1719619200-1719964799@maineea.org
SUMMARY:NEA Aspiring Educators Conference
DESCRIPTION:
URL:https://maineea.org/event/nea-aspiring-educators-conference/
CATEGORIES:Governance
END:VEVENT
BEGIN:VEVENT
DTSTART;VALUE=DATE:20240630
DTEND;VALUE=DATE:20240701
DTSTAMP:20240302T005227
CREATED:20230720T145755Z
LAST-MODIFIED:20230720T153005Z
UID:19897-1719705600-1719791999@maineea.org
SUMMARY:NCSEA Summer Meeting
DESCRIPTION:
URL:https://maineea.org/event/ncsea-summer-meeting/
CATEGORIES:Governance
END:VEVENT
BEGIN:VEVENT
DTSTART;VALUE=DATE:20240701
DTEND;VALUE=DATE:20240702
DTSTAMP:20240302T005227
CREATED:20230720T145757Z
LAST-MODIFIED:20230720T145757Z
UID:19899-1719792000-1719878399@maineea.org
SUMMARY:NEA Board of Directors Meeting
DESCRIPTION:
URL:https://maineea.org/event/nea-board-of-directors-meeting-6/
CATEGORIES:Governance
END:VEVENT
BEGIN:VEVENT
DTSTART;VALUE=DATE:20240701
DTEND;VALUE=DATE:20240703
DTSTAMP:20240302T005227
CREATED:20230720T145756Z
LAST-MODIFIED:20230720T145756Z
UID:19898-1719792000-1719964799@maineea.org
SUMMARY:NEA Conference on Racial and Social Justice
DESCRIPTION:
URL:https://maineea.org/event/nea-conference-on-racial-and-social-justice/
CATEGORIES:Governance
END:VEVENT
BEGIN:VEVENT
DTSTART;VALUE=DATE:20240704
DTEND;VALUE=DATE:20240705
DTSTAMP:20240302T005227
CREATED:20230720T145912Z
LAST-MODIFIED:20230720T145912Z
UID:19900-1720051200-1720137599@maineea.org
SUMMARY:MEA Offices Closed
DESCRIPTION:
URL:https://maineea.org/event/mea-offices-closed-10/
CATEGORIES:Governance
END:VEVENT
BEGIN:VEVENT
DTSTART;VALUE=DATE:20240704
DTEND;VALUE=DATE:20240708
DTSTAMP:20240302T005227
CREATED:20230720T145913Z
LAST-MODIFIED:20230720T145913Z
UID:19901-1720051200-1720396799@maineea.org
SUMMARY:NEA Representative Assembly
DESCRIPTION:
URL:https://maineea.org/event/nea-representative-assembly/
CATEGORIES:Governance
END:VEVENT
BEGIN:VEVENT
DTSTART;VALUE=DATE:20240715
DTEND;VALUE=DATE:20240716
DTSTAMP:20240302T005227
CREATED:20230720T145914Z
LAST-MODIFIED:20230720T145914Z
UID:19902-1721001600-1721087999@maineea.org
SUMMARY:MEA Board of Directors/MEA Staff Meeting
DESCRIPTION:
URL:https://maineea.org/event/mea-board-of-directors-mea-staff-meeting/
CATEGORIES:Governance
END:VEVENT
BEGIN:VEVENT
DTSTART;VALUE=DATE:20240716
DTEND;VALUE=DATE:20240719
DTSTAMP:20240302T005227
CREATED:20230720T145914Z
LAST-MODIFIED:20230720T145914Z
UID:19903-1721088000-1721347199@maineea.org
SUMMARY:MEA Board of Directors Retreat/Meeting
DESCRIPTION:
URL:https://maineea.org/event/mea-board-of-directors-retreat-meeting/
CATEGORIES:Governance
END:VEVENT
END:VCALENDAR