BEGIN:VCALENDAR
VERSION:2.0
PRODID:-//Maine Education Association - ECPv6.15.20//NONSGML v1.0//EN
CALSCALE:GREGORIAN
METHOD:PUBLISH
X-ORIGINAL-URL:https://maineea.org
X-WR-CALDESC:Events for Maine Education Association
REFRESH-INTERVAL;VALUE=DURATION:PT1H
X-Robots-Tag:noindex
X-PUBLISHED-TTL:PT1H
BEGIN:VTIMEZONE
TZID:America/New_York
BEGIN:DAYLIGHT
TZOFFSETFROM:-0500
TZOFFSETTO:-0400
TZNAME:EDT
DTSTART:20250309T070000
END:DAYLIGHT
BEGIN:STANDARD
TZOFFSETFROM:-0400
TZOFFSETTO:-0500
TZNAME:EST
DTSTART:20251102T060000
END:STANDARD
BEGIN:DAYLIGHT
TZOFFSETFROM:-0500
TZOFFSETTO:-0400
TZNAME:EDT
DTSTART:20260308T070000
END:DAYLIGHT
BEGIN:STANDARD
TZOFFSETFROM:-0400
TZOFFSETTO:-0500
TZNAME:EST
DTSTART:20261101T060000
END:STANDARD
BEGIN:DAYLIGHT
TZOFFSETFROM:-0500
TZOFFSETTO:-0400
TZNAME:EDT
DTSTART:20270314T070000
END:DAYLIGHT
BEGIN:STANDARD
TZOFFSETFROM:-0400
TZOFFSETTO:-0500
TZNAME:EST
DTSTART:20271107T060000
END:STANDARD
END:VTIMEZONE
BEGIN:VEVENT
DTSTART;TZID=America/New_York:20260415T170000
DTEND;TZID=America/New_York:20260415T193000
DTSTAMP:20260424T124701
CREATED:20260224T194707Z
LAST-MODIFIED:20260224T194707Z
UID:27875-1776272400-1776281400@maineea.org
SUMMARY:UD 1\, 2\, 3 and 4 Advocacy Training
DESCRIPTION:REGISTER HERE \nAdvocacy is the foundation of union activism. Come explore what advocacy is and the many types of advocacy locals engage as you learn the nuts and bolts of grievance handling.
URL:https://maineea.org/event/ud-1-2-3-and-4-advocacy-training/
LOCATION:Bruno’s Restaurant & Tavern\, 33 Allen Avenue\, Portland\, ME\, 04103\, United States
CATEGORIES:UD Meetings
ATTACH;FMTTYPE=image/jpeg:https://maineea.org/wp-content/uploads/2026/02/4a8d8f4ee47f67cb7ce162b00ac26415-VkJ4QD.tmp_.jpg
END:VEVENT
BEGIN:VEVENT
DTSTART;TZID=America/New_York:20260415T163000
DTEND;TZID=America/New_York:20260415T190000
DTSTAMP:20260424T124701
CREATED:20260324T154347Z
LAST-MODIFIED:20260324T154347Z
UID:28054-1776270600-1776279600@maineea.org
SUMMARY:UniServ District 7 Spring Governance Networking Meeting
DESCRIPTION:REGISTER HERE \nJoin your fellow MEA members for a Governance Networking Opportunity! You will meet other local leaders and your MEA Board members. Members of the MEA Board of Directors will provide updates regarding the work\, including the new Join Now program and other big things happening at the MEA Board level on your behalf. This will be an opportunity to learn\, share\, and elevate your Association together! Date: Wednesday\, April 15\, 2026 Time: 4:30 – 7:00 PM Location: Margaritas Mexican Restaurant 390 Western Ave.Augusta\, ME 04330 Registration closes Wednesday\, April 8th at 5 p.m. *Dinner will be provided\, and mileage will be reimbursed.
URL:https://maineea.org/event/uniserv-district-7-spring-governance-networking-meeting/
LOCATION:Margaritas Mexican Restaurant\, 390 Western Avenue\, Augusta\, ME\, 04330\, United States
CATEGORIES:UD Meetings
ATTACH;FMTTYPE=image/jpeg:https://maineea.org/wp-content/uploads/2026/02/4a8d8f4ee47f67cb7ce162b00ac26415-VkJ4QD.tmp_.jpg
END:VEVENT
BEGIN:VEVENT
DTSTART;TZID=America/New_York:20260415T163000
DTEND;TZID=America/New_York:20260415T190000
DTSTAMP:20260424T124701
CREATED:20260312T194030Z
LAST-MODIFIED:20260312T194030Z
UID:28016-1776270600-1776279600@maineea.org
SUMMARY:UniServ District 9 Spring Governance Networking Meeting!
DESCRIPTION:REGISTER HERE \nJoin your fellow MEA members for a Governance Networking Opportunity! You will meet other local leaders and your MEA Board members. Members of the MEA Board of Directors will provide updates regarding the work\, including the new Join Now program and other big things happening at the MEA Board level on your behalf. This will be an opportunity to learn\, share\, and elevate your Association together. Date: Wednesday\, April 15\, 2026 Time: 4:30 – 7:00 PM Location: Sweet Cheeks Diner 214 US-1  Bucksport\, ME 04416 Registration closes Wednesday\, April 8th at 5 p.m. *Dinner will be provided\, and mileage will be reimbursed
URL:https://maineea.org/event/uniserv-district-9-spring-governance-networking-meeting/
LOCATION:Sweet Cheeks Diner\, 214 US-1\, Bucksport\, ME\, 04416\, United States
CATEGORIES:UD Meetings
ATTACH;FMTTYPE=image/jpeg:https://maineea.org/wp-content/uploads/2026/02/4a8d8f4ee47f67cb7ce162b00ac26415-VkJ4QD.tmp_.jpg
END:VEVENT
BEGIN:VEVENT
DTSTART;TZID=America/New_York:20260414T160000
DTEND;TZID=America/New_York:20260414T193000
DTSTAMP:20260424T124701
CREATED:20260303T190708Z
LAST-MODIFIED:20260303T190708Z
UID:27933-1776182400-1776195000@maineea.org
SUMMARY:UD 4 & UD 5 Advocacy Training
DESCRIPTION:REGISTER HERE \nLearn the skills that will enable you to advocate for members and help strengthen local union power.
URL:https://maineea.org/event/ud-4-ud-5-advocacy-training-2/
LOCATION:Montsweag Restaurant\, 942 U.S. 1\, Woolwich\, ME\, 04579\, United States
CATEGORIES:UD Meetings
ATTACH;FMTTYPE=image/jpeg:https://maineea.org/wp-content/uploads/2026/02/4a8d8f4ee47f67cb7ce162b00ac26415-VkJ4QD.tmp_.jpg
END:VEVENT
BEGIN:VEVENT
DTSTART;TZID=America/New_York:20260413T173000
DTEND;TZID=America/New_York:20260413T193000
DTSTAMP:20260424T124701
CREATED:20260311T175139Z
LAST-MODIFIED:20260311T175139Z
UID:28012-1776101400-1776108600@maineea.org
SUMMARY:UniServ Districts 6 & 14 Spring Governance Networking Meeting
DESCRIPTION:REGISTER HERE \nJoin your fellow MEA members for a Governance Networking Opportunity! You will meet other local leaders and your MEA Board members. Members of the MEA Board of Directors will provide updates regarding the work\, including the new Join Now program and other big things happening at the MEA Board level on your behalf. This will be an opportunity to learn\, share\, and elevate your Association together!
URL:https://maineea.org/event/uniserv-districts-6-14-spring-governance-networking-meeting/
LOCATION:Auburn Middle School\, 38 Falcon Drive\, Auburn\, ME\, 04210\, United States
CATEGORIES:UD Meetings
ATTACH;FMTTYPE=image/jpeg:https://maineea.org/wp-content/uploads/2026/02/4a8d8f4ee47f67cb7ce162b00ac26415-VkJ4QD.tmp_.jpg
END:VEVENT
BEGIN:VEVENT
DTSTART;TZID=America/New_York:20260408T170000
DTEND;TZID=America/New_York:20260408T190000
DTSTAMP:20260424T124701
CREATED:20260303T183702Z
LAST-MODIFIED:20260303T183702Z
UID:27931-1775667600-1775674800@maineea.org
SUMMARY:UD 4 & UD 5 Governance Networking Meeting (Spring 2026)
DESCRIPTION:REGISTER HERE \nTake part in this opportunity to meet other Local leaders and your MEA Board members so that you may learn\, share and evaluate your Association together!
URL:https://maineea.org/event/ud-4-ud-5-governance-networking-meeting-spring-2026/
LOCATION:Montsweag Restaurant\, 942 U.S. 1\, Woolwich\, ME\, 04579\, United States
CATEGORIES:UD Meetings
END:VEVENT
BEGIN:VEVENT
DTSTART;TZID=America/New_York:20260407T163000
DTEND;TZID=America/New_York:20260407T183000
DTSTAMP:20260424T124701
CREATED:20260303T183248Z
LAST-MODIFIED:20260303T183248Z
UID:27929-1775579400-1775586600@maineea.org
SUMMARY:UD 4 & UD 6 Governance Networking Meeting (Spring 2026)
DESCRIPTION:REGISTER HERE \nTake part in this opportunity to meet other Local leaders and your MEA Board members so that you may learn\, share and evaluate your Association together!
URL:https://maineea.org/event/ud-4-ud-6-governance-networking-meeting-spring-2026/
LOCATION:Foreside Tavern & Side Bar\, 270 U.S. 1\, Falmouth\, ME\, 04105\, United States
CATEGORIES:UD Meetings
ATTACH;FMTTYPE=image/jpeg:https://maineea.org/wp-content/uploads/2026/02/4a8d8f4ee47f67cb7ce162b00ac26415-VkJ4QD.tmp_.jpg
END:VEVENT
BEGIN:VEVENT
DTSTART;TZID=America/New_York:20260325T160000
DTEND;TZID=America/New_York:20260325T180000
DTSTAMP:20260424T124701
CREATED:20260310T162126Z
LAST-MODIFIED:20260310T162126Z
UID:27990-1774454400-1774461600@maineea.org
SUMMARY:UniServ District 1 Governance Networking Meeting!
DESCRIPTION:REGISTER HERE \nJoin your fellow MEA members for a Governance Networking Opportunity! You will meet other local leaders and your MEA Board members. Members of the MEA Board of Directors will provide updates regarding the work\, including the new Join Now program and other big things happening at the MEA Board level on your behalf. This will be an opportunity to learn\, share\, and elevate your Association together! 
URL:https://maineea.org/event/uniserv-district-1-governance-networking-meeting/
LOCATION:Duffy’s Tavern & Grill\, 4 Main St.\, Kennebunk\, 04043\, United States
CATEGORIES:UD Meetings
ATTACH;FMTTYPE=image/jpeg:https://maineea.org/wp-content/uploads/2026/02/4a8d8f4ee47f67cb7ce162b00ac26415-VkJ4QD.tmp_.jpg
END:VEVENT
BEGIN:VEVENT
DTSTART;TZID=America/New_York:20260304T170000
DTEND;TZID=America/New_York:20260304T183000
DTSTAMP:20260424T124701
CREATED:20260203T203759Z
LAST-MODIFIED:20260203T203759Z
UID:27721-1772643600-1772649000@maineea.org
SUMMARY:UD 2 and UD 3 Governance Networking Meeting
DESCRIPTION:REGISTER HERE \nJoin your fellow MEA members for a Governance Networking Opportunity! You will meet other local leaders and your MEA Board members. Members of the MEA Board of Directors will provide updates regarding the work\, including the new Join Now program and other big things happening at the MEA Board level on your behalf. This will be an opportunity to learn\, share\, and elevate your Association together!
URL:https://maineea.org/event/ud-2-and-ud-3-governance-networking-meeting-2/
LOCATION:MEA South Portland Office\, 29 Christopher Toppi Drive\, South Portland\, ME\, 04106\, United States
CATEGORIES:UD Meetings
ATTACH;FMTTYPE=image/jpeg:https://maineea.org/wp-content/uploads/2026/01/b65128b9409037db7ca9ff76d8fbe5d8-smTbBY.tmp_.jpg
END:VEVENT
BEGIN:VEVENT
DTSTART;TZID=America/New_York:20260204T170000
DTEND;TZID=America/New_York:20260204T190000
DTSTAMP:20260424T124701
CREATED:20260126T205629Z
LAST-MODIFIED:20260126T205835Z
UID:27650-1770224400-1770231600@maineea.org
SUMMARY:Dine & Discuss
DESCRIPTION:REGISTER HERE \nJOIN US FOR CONVERSATION WITH YOUR LEGISLATORS Key leaders from the Maine House & Senate will be joining us for dinner and discussion around the topics that are important to educators. We’ll spend some time brainstorming questions that you’d like to ask legislators\, then during dinner you’ll be seated with those that represent the towns in your school district.
URL:https://maineea.org/event/dine-discuss/
LOCATION:Jimmy the Greek’s\, 215 Saco Ave\, Old Orchard Beach\, ME\, 04064\, United States
CATEGORIES:UD Meetings
ATTACH;FMTTYPE=image/jpeg:https://maineea.org/wp-content/uploads/2026/01/b65128b9409037db7ca9ff76d8fbe5d8-smTbBY.tmp_.jpg
END:VEVENT
BEGIN:VEVENT
DTSTART;TZID=America/New_York:20260114T163000
DTEND;TZID=America/New_York:20260114T190000
DTSTAMP:20260424T124701
CREATED:20251211T175307Z
LAST-MODIFIED:20251211T175307Z
UID:27149-1768408200-1768417200@maineea.org
SUMMARY:Dangerous Behavior and Prevention Training District 6 & 7
DESCRIPTION:REGISTER HERE *Registration closes Thursday\, January 8th at 5pm.  \nTo help increase workplace and student safety\, MEA helped pass the Dangerous Behavior and Prevention and Intervention Law. Among other things\, the law: *Protects your paycheck and sick time\, if a dangerous behavior is substantiated and a staff person is injured. *Requires administration to work with the union to develop action plans that keep students and staff safe. After the training\, you will know: 1. What constitutes a dangerous behavior. 2. What protections are in place and covered by the law. 3. The protocols your district should have in place. 4. How your union can ensure administration is held accountable in addressing dangerous behavior. 5. How to navigate the report process.
URL:https://maineea.org/event/dangerous-behavior-and-prevention-training-district-6-7/
LOCATION:MEA Board Room\, 35 Community Drive\, Augusta\, ME\, 04330\, United States
CATEGORIES:UD Meetings
ATTACH;FMTTYPE=image/jpeg:https://maineea.org/wp-content/uploads/2025/12/5f31f0a9a544905226f3747b6fbb86df-KS3Jhu.tmp_.jpg
END:VEVENT
BEGIN:VEVENT
DTSTART;TZID=America/New_York:20260114T160000
DTEND;TZID=America/New_York:20260114T193000
DTSTAMP:20260424T124701
CREATED:20251211T165632Z
LAST-MODIFIED:20251211T175645Z
UID:27147-1768406400-1768419000@maineea.org
SUMMARY:UD 4 & UD 5 Dangerous Behavior Prevention & Intervention Training
DESCRIPTION:REGISTER HERE \nLearn how this important law that the MEA helped pass can increase workplace and student safety.
URL:https://maineea.org/event/ud-4-ud-5-dangerous-behavior-prevention-intervention-training-2/
LOCATION:Montsweag Restaurant\, 942 U.S. 1\, Woolwich\, ME\, 04579\, United States
CATEGORIES:UD Meetings
ATTACH;FMTTYPE=image/jpeg:https://maineea.org/wp-content/uploads/2025/12/5f31f0a9a544905226f3747b6fbb86df-KS3Jhu.tmp_.jpg
END:VEVENT
BEGIN:VEVENT
DTSTART;TZID=America/New_York:20260108T150000
DTEND;TZID=America/New_York:20260108T180000
DTSTAMP:20260424T124701
CREATED:20251218T200118Z
LAST-MODIFIED:20251219T160140Z
UID:27192-1767884400-1767895200@maineea.org
SUMMARY:UD 1 Benefits of Membership
DESCRIPTION:REGISTER HERE \nLearn about some of the “hidden” benefits of membership.
URL:https://maineea.org/event/ud-1-benefits-of-membership/
LOCATION:Duffy’s Tavern & Grill\, 4 Main St.\, Kennebunk\, 04043\, United States
CATEGORIES:UD Meetings
ATTACH;FMTTYPE=image/jpeg:https://maineea.org/wp-content/uploads/2025/12/5f31f0a9a544905226f3747b6fbb86df-KS3Jhu.tmp_.jpg
END:VEVENT
BEGIN:VEVENT
DTSTART;TZID=America/New_York:20260107T173000
DTEND;TZID=America/New_York:20260107T193000
DTSTAMP:20260424T124701
CREATED:20251209T153801Z
LAST-MODIFIED:20251209T153801Z
UID:27133-1767807000-1767814200@maineea.org
SUMMARY:The Duty of Fair Representation Training Registration UD 9
DESCRIPTION: REGISTER HERE \nPlease join MEA General Counsel\, Ben Grant and UniServ Director\, Phyllis Hunter to learn the ins and outs of The Duty of Fair Representation. The Local Association will be faced with many decisions in processing grievances. The bargaining agent has a legal obligation to its bargaining unit members known as “the Duty of Fair Representation” or “DFR\,” for short. While this may sound intimidating\, be assured that following best practices for processing grievances will keep the Local Association well within the legal requirements of DFR.
URL:https://maineea.org/event/the-duty-of-fair-representation-training-registration-ud-9/
LOCATION:Virtual via Zoom
CATEGORIES:UD Meetings
ATTACH;FMTTYPE=image/jpeg:https://maineea.org/wp-content/uploads/2025/09/13dd7e33348fec3079ad2c88474e0f52-57PLnN.tmp_.jpg
END:VEVENT
END:VCALENDAR