BEGIN:VCALENDAR
VERSION:2.0
PRODID:-//Maine Education Association - ECPv6.15.20//NONSGML v1.0//EN
CALSCALE:GREGORIAN
METHOD:PUBLISH
X-WR-CALNAME:Maine Education Association
X-ORIGINAL-URL:https://maineea.org
X-WR-CALDESC:Events for Maine Education Association
REFRESH-INTERVAL;VALUE=DURATION:PT1H
X-Robots-Tag:noindex
X-PUBLISHED-TTL:PT1H
BEGIN:VTIMEZONE
TZID:America/New_York
BEGIN:DAYLIGHT
TZOFFSETFROM:-0500
TZOFFSETTO:-0400
TZNAME:EDT
DTSTART:20250309T070000
END:DAYLIGHT
BEGIN:STANDARD
TZOFFSETFROM:-0400
TZOFFSETTO:-0500
TZNAME:EST
DTSTART:20251102T060000
END:STANDARD
BEGIN:DAYLIGHT
TZOFFSETFROM:-0500
TZOFFSETTO:-0400
TZNAME:EDT
DTSTART:20260308T070000
END:DAYLIGHT
BEGIN:STANDARD
TZOFFSETFROM:-0400
TZOFFSETTO:-0500
TZNAME:EST
DTSTART:20261101T060000
END:STANDARD
BEGIN:DAYLIGHT
TZOFFSETFROM:-0500
TZOFFSETTO:-0400
TZNAME:EDT
DTSTART:20270314T070000
END:DAYLIGHT
BEGIN:STANDARD
TZOFFSETFROM:-0400
TZOFFSETTO:-0500
TZNAME:EST
DTSTART:20271107T060000
END:STANDARD
END:VTIMEZONE
BEGIN:VEVENT
DTSTART;TZID=America/New_York:20260513T160000
DTEND;TZID=America/New_York:20260513T190000
DTSTAMP:20260424T111146
CREATED:20260414T200425Z
LAST-MODIFIED:20260414T200425Z
UID:28227-1778688000-1778698800@maineea.org
SUMMARY:UD 10 + UD 11 Building Rep Training
DESCRIPTION:REGISTER HERE \nBuilding Reps are the foundation of an effective union and this training will provide the fundamental knowledge and leadership skills you need to support and represent your fellow members.
URL:https://maineea.org/event/ud-10-ud-11-building-rep-training/
LOCATION:Dysart’s Restaurant Broadway\, 1110 Broadway\, Bangor\, ME\, 04401\, United States
CATEGORIES:UD Meetings
ATTACH;FMTTYPE=image/jpeg:https://maineea.org/wp-content/uploads/2026/02/4a8d8f4ee47f67cb7ce162b00ac26415-VkJ4QD.tmp_.jpg
END:VEVENT
END:VCALENDAR