BEGIN:VCALENDAR
VERSION:2.0
PRODID:-//Maine Education Association - ECPv6.3.3.1//NONSGML v1.0//EN
CALSCALE:GREGORIAN
METHOD:PUBLISH
X-ORIGINAL-URL:https://maineea.org
X-WR-CALDESC:Events for Maine Education Association
REFRESH-INTERVAL;VALUE=DURATION:PT1H
X-Robots-Tag:noindex
X-PUBLISHED-TTL:PT1H
BEGIN:VTIMEZONE
TZID:America/New_York
BEGIN:DAYLIGHT
TZOFFSETFROM:-0500
TZOFFSETTO:-0400
TZNAME:EDT
DTSTART:20230312T070000
END:DAYLIGHT
BEGIN:STANDARD
TZOFFSETFROM:-0400
TZOFFSETTO:-0500
TZNAME:EST
DTSTART:20231105T060000
END:STANDARD
END:VTIMEZONE
BEGIN:VEVENT
DTSTART;TZID=America/New_York:20230810T110000
DTEND;TZID=America/New_York:20230810T140000
DTSTAMP:20240302T020409
CREATED:20230405T190421Z
LAST-MODIFIED:20230812T125703Z
UID:19059-1691665200-1691676000@maineea.org
SUMMARY:UD 11 & 12 Membership Meeting
DESCRIPTION:Districts 11 and 12 Membership Meetings\n\n\nPlease join us for our annual membership planning meeting to discuss recruitment strategies for the upcoming school year. It is crucial that your local association has a solid action plan in place for enrolling new employees as well as engaging those potentials who have been hesitant to commit in the past. \nWe strongly encourage presidents\, the membership team members\, building representatives\, and others interested in increasing your local association’s power to attend.
URL:https://maineea.org/event/ud-11-membership-workshop-bangor/
LOCATION:Elks Lodge – Ellsworth\, 317 High Street\, Ellsworth\, ME\, 04605\, United States
ATTACH;FMTTYPE=image/jpeg:https://maineea.org/wp-content/uploads/2023/08/e98a883b27dec587fab0efdc9d01d90a-w3xRHY.tmp_.jpg
END:VEVENT
BEGIN:VEVENT
DTSTART;TZID=America/New_York:20230810T100000
DTEND;TZID=America/New_York:20230810T130000
DTSTAMP:20240302T020409
CREATED:20230731T105002Z
LAST-MODIFIED:20230812T125702Z
UID:19991-1691661600-1691672400@maineea.org
SUMMARY:Districts 2 and 3 Membership Meeting
DESCRIPTION:Districts 2 and 3 Membership Meetings\n\n\nWe will be investigating organizing strategies for your local Association Membership Recruitment Plan. We encourage all local leaders (officers\, building representatives\, membership team) and potential new leaders to attend. Please plan to bring a device to access our new digital membership materials and learn how to stay connected to MEA through our digital platforms. \nWe strongly recommend that every local Association send a membership team (at least two members) to this meeting. \nLunch will be provided. \nWe look forward to seeing you all!
URL:https://maineea.org/event/districts-2-and-3-membership-meeting-2/
LOCATION:Rustlers Steak House\, 61 Tandberg Trail\, Windham\, ME\, 04062\, United States
ATTACH;FMTTYPE=image/jpeg:https://maineea.org/wp-content/uploads/2023/07/e11a678fe67828b8de59f461540c54bf-2zKyfv.tmp_.jpg
END:VEVENT
BEGIN:VEVENT
DTSTART;TZID=America/New_York:20230809T160000
DTEND;TZID=America/New_York:20230809T180000
DTSTAMP:20240302T020409
CREATED:20230731T105000Z
LAST-MODIFIED:20230808T131730Z
UID:19988-1691596800-1691604000@maineea.org
SUMMARY:District 12 Membership Planning Meeting 2023
DESCRIPTION:District 12 Membership Meeting\n\n\nP﻿lease join us for our annual Membership Meeting! All local leaders\, potential new leaders\, and membership teams are encouraged to attend. Let us help you prepare for your local membership campaign.
URL:https://maineea.org/event/district-12-membership-planning-meeting-2023/
LOCATION:Ceaser’s Pub & Grill\, 663 Main Street\, Calais\, ME\, 04619\, United States
ATTACH;FMTTYPE=image/jpeg:https://maineea.org/wp-content/uploads/2023/07/30d55740baba88ec0253cab567076132-UMLrAP.tmp_.jpg
END:VEVENT
BEGIN:VEVENT
DTSTART;TZID=America/New_York:20230809T113000
DTEND;TZID=America/New_York:20230809T143000
DTSTAMP:20240302T020409
CREATED:20230731T104958Z
LAST-MODIFIED:20230808T131729Z
UID:19984-1691580600-1691591400@maineea.org
SUMMARY:UD 10 & 11 Annual Membership Meeting
DESCRIPTION:Please plan to join UniServ Directors Annie Mansfield (UD 10) and Anthony Feldpausch (UD11) for our annual membership meeting.\n\n\nPlease join us for our annual membership meeting to discuss recruitment strategies for the upcoming school year. It is crucial that your Local Association has a solid action plan in place for enrolling new employees as well as engaging those potentials who have been hesitant to commit in the past.
URL:https://maineea.org/event/ud-10-11-annual-membership-meeting/
LOCATION:1349 Broadway\, 1349 Broadway\, Bangor\, ME\, 04401\, United States
ATTACH;FMTTYPE=image/jpeg:https://maineea.org/wp-content/uploads/2023/07/5e6733980df3cc7359814a7a29b3fb63-AA0So9.tmp_.jpg
END:VEVENT
BEGIN:VEVENT
DTSTART;TZID=America/New_York:20230809T110000
DTEND;TZID=America/New_York:20230809T150000
DTSTAMP:20240302T020409
CREATED:20230615T151833Z
LAST-MODIFIED:20230808T131728Z
UID:19666-1691578800-1691593200@maineea.org
SUMMARY:UD 8 Annual Membership Meeting
DESCRIPTION:Please plan to join Sarah Nichols\, UniServ Director and Janette Storen\, UniServ Assistant for our annual membership meeting.\n\n\nPlease join us for our annual membership meeting to discuss recruitment strategies for the upcoming school year. It is crucial that your Local Association has a solid action plan in place for enrolling new employees as well as engaging those potentials who have been hesitant to commit in the past.
URL:https://maineea.org/event/ud-8-annual-membership-meeting/
LOCATION:123 Madison Ave\, 123 Madison Avenue\, Skowhegan\, ME\, 04976\, United States
ATTACH;FMTTYPE=image/jpeg:https://maineea.org/wp-content/uploads/2023/06/7f5086b1bc78f5c11996151b6328646d-cT0BCx.tmp_.jpg
END:VEVENT
BEGIN:VEVENT
DTSTART;TZID=America/New_York:20230809T100000
DTEND;TZID=America/New_York:20230809T130000
DTSTAMP:20240302T020409
CREATED:20230731T104955Z
LAST-MODIFIED:20230808T131726Z
UID:19978-1691575200-1691586000@maineea.org
SUMMARY:District 7 Membership Planning Meeting 2023
DESCRIPTION:District 7 Membership Workshop\n\n\nPlease join us for our annual membership planning meeting to discuss recruitment strategies for the upcoming school year. It is crucial that your local association has a solid action plan in place for enrolling new employees as well as engaging those potentials who have been hesitant to commit in the past. \nWe strongly encourage presidents\, the membership team members\, building representatives\, and others interested in increasing your local association’s power to attend.\n \n \nLunch will be provided.
URL:https://maineea.org/event/district-7-membership-planning-meeting-2023/
LOCATION:Senator Inn & Spa\, 284 Western Avenue\, Augusta\, ME\, 04330\, United States
ATTACH;FMTTYPE=image/jpeg:https://maineea.org/wp-content/uploads/2023/07/3de3b31fc672a4fe582a8f5bd89778cf-RLh84l.tmp_.jpg
END:VEVENT
BEGIN:VEVENT
DTSTART;TZID=America/New_York:20230808T110000
DTEND;TZID=America/New_York:20230808T140000
DTSTAMP:20240302T020409
CREATED:20230731T104954Z
LAST-MODIFIED:20230808T131725Z
UID:19976-1691492400-1691503200@maineea.org
SUMMARY:Districts 2 and 3 Membership Meeting
DESCRIPTION:Districts 2 and 3 Membership Meetings\n\n\nWe will be investigating organizing strategies for your local Association Membership Recruitment Plan. We encourage all local leaders (officers\, building representatives\, membership team) and potential new leaders to attend. Please plan to bring a device to access our new digital membership materials and learn how to stay connected to MEA through our digital platforms. \nWe strongly recommend that every local Association send a membership team (at least two members) to this meeting. \nLunch will be provided. \nWe look forward to seeing you all!
URL:https://maineea.org/event/districts-2-and-3-membership-meeting/
LOCATION:Portland Pie Company\, 40 Main Street\, Biddeford\, ME\, 04005\, United States
ATTACH;FMTTYPE=image/jpeg:https://maineea.org/wp-content/uploads/2023/07/b24401a604daa2621012e0fd17249f5a-tnyQaa.tmp_.jpg
END:VEVENT
BEGIN:VEVENT
DTSTART;TZID=America/New_York:20230808T100000
DTEND;TZID=America/New_York:20230808T140000
DTSTAMP:20240302T020410
CREATED:20230731T104952Z
LAST-MODIFIED:20230808T131723Z
UID:19972-1691488800-1691503200@maineea.org
SUMMARY:District 9 Membership Planning Meeting 2023
DESCRIPTION:Membership planning meeting\n\n\nPlease join us for our annual membership planning meeting to discuss recruitment strategies for the upcoming school year. it is crucial that your local association has a solid action plan in place for enrolling new employees as well as engaging those potentials who have been hesitant to commit in the past. 
URL:https://maineea.org/event/district-9-membership-planning-meeting-2023/
LOCATION:Fireside Inn & Suites\, 159 Searsport Avenue\, Belfast\, ME\, 04915\, United States
ATTACH;FMTTYPE=image/jpeg:https://maineea.org/wp-content/uploads/2023/07/a7d814c858341479f76c07a5b0bb72df-FiVxIG.tmp_.jpg
END:VEVENT
BEGIN:VEVENT
DTSTART;TZID=America/New_York:20230803T110000
DTEND;TZID=America/New_York:20230803T140000
DTSTAMP:20240302T020410
CREATED:20230615T151829Z
LAST-MODIFIED:20230731T104950Z
UID:19663-1691060400-1691071200@maineea.org
SUMMARY:UD 5 Membership Planning Meeting 2023
DESCRIPTION:UD  5 Membership Planning Meeting 2023\n\n\nPlease join us for our annual membership meeting to discuss recruitment strategies for the upcoming school year. It is crucial that your Local Association has a solid action plan in place for enrolling new employees as well as engaging those potentials who have been hesitant to commit in the past. 
URL:https://maineea.org/event/ud-5-membership-planning-meeting-2023/
LOCATION:Montsweag Restaurant\, 942 U.S. 1\, Woolwich\, ME\, 04579\, United States
ATTACH;FMTTYPE=image/jpeg:https://maineea.org/wp-content/uploads/2023/06/f12b3e3abf0bbd898353133f9a543911-MnRj3t.tmp_.jpg
END:VEVENT
BEGIN:VEVENT
DTSTART;TZID=America/New_York:20230803T083000
DTEND;TZID=America/New_York:20230803T153000
DTSTAMP:20240302T020410
CREATED:20230530T042311Z
LAST-MODIFIED:20230731T104948Z
UID:19441-1691051400-1691076600@maineea.org
SUMMARY:UD 15 Presidents' Meeting\, Treasurers Training & Annual Membership Meeting
DESCRIPTION:UD 15 Treasurers Training\, Presidents Meeting\, and Annual Membership Meeting\n\n\nPlease join us August 3rd from 8:30 to 3:30 for UD15 Treasurers Training\, Presidents Meeting and Annual Membership Meeting to be held at University of Maine at Presque Isle.  A continental breakfast and luncheon will be available.  \n Agenda will be sent out prior to the meeting.       \nWe look forward to seeing everyone!
URL:https://maineea.org/event/ud-15-treasurers-training-presidents-meeting-annual-membership-meeting/
LOCATION:University of Maine at Presque Isle\, 181 Main Street\, Presque Isle\, ME\, 04769\, United States
ATTACH;FMTTYPE=image/jpeg:https://maineea.org/wp-content/uploads/2023/05/d8da77a8d62948dc48443cfe05555e8b-6Juxvy.tmp_.jpg
END:VEVENT
BEGIN:VEVENT
DTSTART;VALUE=DATE:20230801
DTEND;VALUE=DATE:20230802
DTSTAMP:20240302T020410
CREATED:20230608T195829Z
LAST-MODIFIED:20230608T195829Z
UID:19629-1690848000-1690934399@maineea.org
SUMMARY:Summer Conference
DESCRIPTION:CONFERENCE INFO \nMEA invites you to join us for FREE professional development to get you ready for the next year! \nThe summer conference will feature high-quality professional development presented by members\, including County Teachers of the Year\, Board Certified Behavioral Analysts\, National Board Certified Teachers\, as well as MEA and NEA staff. In addition\, Emily Read Daniels\, author and creator of The Regulated Classroom\, will address members with a keynote: “Stepping into Your Personal Power for the 2023/2024 School Year”. \nSessions have been crafted to meet the unique needs of our support staff\, early career educators\, pre-K-12 teachers\, and union leaders at all levels\, pre-K-Higher Ed.
URL:https://maineea.org/event/summer-conference-2/
LOCATION:Holiday Inn by the Bay\, Holiday Inn by the Bay\, 88 Spring St.\, Portland\, ME\, 04101\, United States
CATEGORIES:Professional Development,Summer Conference
ATTACH;FMTTYPE=image/png:https://maineea.org/wp-content/uploads/2023/06/Summer-Conference-23.png
END:VEVENT
BEGIN:VEVENT
DTSTART;VALUE=DATE:20230731
DTEND;VALUE=DATE:20230801
DTSTAMP:20240302T020410
CREATED:20230720T144328Z
LAST-MODIFIED:20230720T144328Z
UID:19816-1690761600-1690847999@maineea.org
SUMMARY:President/Treasurer Training\, Portland
DESCRIPTION:
URL:https://maineea.org/event/president-treasurer-training-portland/
CATEGORIES:Governance
END:VEVENT
BEGIN:VEVENT
DTSTART;VALUE=DATE:20230731
DTEND;VALUE=DATE:20230801
DTSTAMP:20240302T020410
CREATED:20230608T195703Z
LAST-MODIFIED:20230608T195703Z
UID:19626-1690761600-1690847999@maineea.org
SUMMARY:Summer Conference
DESCRIPTION:CONFERENCE INFO \nMEA invites you to join us for FREE professional development to get you ready for the next year! \nThe summer conference will feature high-quality professional development presented by members\, including County Teachers of the Year\, Board Certified Behavioral Analysts\, National Board Certified Teachers\, as well as MEA and NEA staff. In addition\, Emily Read Daniels\, author and creator of The Regulated Classroom\, will address members with a keynote: “Stepping into Your Personal Power for the 2023/2024 School Year”. \nSessions have been crafted to meet the unique needs of our support staff\, early career educators\, pre-K-12 teachers\, and union leaders at all levels\, pre-K-Higher Ed.
URL:https://maineea.org/event/summer-conference/
LOCATION:Holiday Inn by the Bay\, Holiday Inn by the Bay\, 88 Spring St.\, Portland\, ME\, 04101\, United States
CATEGORIES:Professional Development,Summer Conference
ATTACH;FMTTYPE=image/png:https://maineea.org/wp-content/uploads/2023/06/Summer-Conference-23.png
END:VEVENT
BEGIN:VEVENT
DTSTART;TZID=America/New_York:20230717T000000
DTEND;TZID=America/New_York:20230717T000000
DTSTAMP:20240302T020410
CREATED:20220527T155404Z
LAST-MODIFIED:20220527T155404Z
UID:16765-1689552000-1689552000@maineea.org
SUMMARY:MEA Board of Directors/MEA Staff meeting
DESCRIPTION:
URL:https://maineea.org/event/mea-board-of-directors-mea-staff-meeting-3/
END:VEVENT
BEGIN:VEVENT
DTSTART;VALUE=DATE:20230704
DTEND;VALUE=DATE:20230705
DTSTAMP:20240302T020410
CREATED:20220527T155402Z
LAST-MODIFIED:20220818T164140Z
UID:16764-1688428800-1688515199@maineea.org
SUMMARY:MEA Offices Closed
DESCRIPTION:
URL:https://maineea.org/event/mea-offices-closed-23/
END:VEVENT
BEGIN:VEVENT
DTSTART;VALUE=DATE:20230702
DTEND;VALUE=DATE:20230703
DTSTAMP:20240302T020410
CREATED:20220527T155346Z
LAST-MODIFIED:20220818T164208Z
UID:16762-1688256000-1688342399@maineea.org
SUMMARY:NEA Board of Directors Meeting
DESCRIPTION:
URL:https://maineea.org/event/nea-board-of-directors-meeting-2/
END:VEVENT
BEGIN:VEVENT
DTSTART;VALUE=DATE:20230701
DTEND;VALUE=DATE:20230702
DTSTAMP:20240302T020410
CREATED:20220527T155424Z
LAST-MODIFIED:20220818T164232Z
UID:16767-1688169600-1688255999@maineea.org
SUMMARY:Local Presidents' Meeting
DESCRIPTION:
URL:https://maineea.org/event/local-presidents-meeting-2/
END:VEVENT
BEGIN:VEVENT
DTSTART;VALUE=DATE:20230701
DTEND;VALUE=DATE:20230702
DTSTAMP:20240302T020410
CREATED:20220527T155408Z
LAST-MODIFIED:20220818T164333Z
UID:16766-1688169600-1688255999@maineea.org
SUMMARY:Local Treasurers' Training
DESCRIPTION:
URL:https://maineea.org/event/local-treasurers-training-2/
END:VEVENT
BEGIN:VEVENT
DTSTART;VALUE=DATE:20230701
DTEND;VALUE=DATE:20230702
DTSTAMP:20240302T020410
CREATED:20220527T155344Z
LAST-MODIFIED:20220818T164348Z
UID:16761-1688169600-1688255999@maineea.org
SUMMARY:NCSEA Summer Meeting
DESCRIPTION:
URL:https://maineea.org/event/ncsea-summer-meeting-3/
END:VEVENT
BEGIN:VEVENT
DTSTART;VALUE=DATE:20230701
DTEND;VALUE=DATE:20230702
DTSTAMP:20240302T020410
CREATED:20220527T155342Z
LAST-MODIFIED:20220818T164403Z
UID:16760-1688169600-1688255999@maineea.org
SUMMARY:NEA Retired Conference
DESCRIPTION:
URL:https://maineea.org/event/nea-retired-conference/
END:VEVENT
BEGIN:VEVENT
DTSTART;VALUE=DATE:20230619
DTEND;VALUE=DATE:20230620
DTSTAMP:20240302T020410
CREATED:20220527T155321Z
LAST-MODIFIED:20220818T164502Z
UID:16757-1687132800-1687219199@maineea.org
SUMMARY:MEA Offices Closed
DESCRIPTION:
URL:https://maineea.org/event/mea-offices-closed-22/
END:VEVENT
BEGIN:VEVENT
DTSTART;VALUE=DATE:20230613
DTEND;VALUE=DATE:20230614
DTSTAMP:20240302T020410
CREATED:20220527T155319Z
LAST-MODIFIED:20220818T164531Z
UID:16756-1686614400-1686700799@maineea.org
SUMMARY:Election Day (local elections)
DESCRIPTION:
URL:https://maineea.org/event/election-day-local-elections/
END:VEVENT
BEGIN:VEVENT
DTSTART;TZID=America/New_York:20230612T153000
DTEND;TZID=America/New_York:20230612T163000
DTSTAMP:20240302T020410
CREATED:20230119T205737Z
LAST-MODIFIED:20230119T205737Z
UID:18500-1686583800-1686587400@maineea.org
SUMMARY:Maine Pediatric and Behavioral Health Partnership’s Mental Health Promotion in the School Setting ECHO (Extension for Community Healthcare Outcomes) series
DESCRIPTION:REGISTER \nChoose from one or multiple sessions that are relevant to your role. Sessions are on the 4th Monday of each month and run from 3:30 – 4:30. Contact hours will be awarded for each session attended.Each session begins with a 10-minute mini-lesson covering the scheduled topic\, then transitions into a panel discussion with subject matter experts. Leave the session with tools and recommendations for meeting student needs.Topics Include:Jan 23: Supporting Students with AnxietyFeb 27: Building Emotional ResilienceMar 27: Promoting Rational ThinkingApr 24: Trauma Sensitive De-Escalation  May 22: Proactive Solutions to Problem BehaviorsJune 12: Connecting: Family-School-Community
URL:https://maineea.org/event/maine-pediatric-and-behavioral-health-partnerships-mental-health-promotion-in-the-school-setting-echo-extension-for-community-healthcare-outcomes-series-6/
CATEGORIES:Professional Development
END:VEVENT
BEGIN:VEVENT
DTSTART;VALUE=DATE:20230606
DTEND;VALUE=DATE:20230607
DTSTAMP:20240302T020410
CREATED:20220527T155317Z
LAST-MODIFIED:20220818T164552Z
UID:16755-1686009600-1686095999@maineea.org
SUMMARY:MEA President's Virtual Office Hours\, 7pm
DESCRIPTION:
URL:https://maineea.org/event/mea-presidents-virtual-office-hours-7pm-12/
END:VEVENT
BEGIN:VEVENT
DTSTART;VALUE=DATE:20230529
DTEND;VALUE=DATE:20230530
DTSTAMP:20240302T020410
CREATED:20220527T155315Z
LAST-MODIFIED:20220818T164659Z
UID:16754-1685318400-1685404799@maineea.org
SUMMARY:MEA Offices Closed
DESCRIPTION:
URL:https://maineea.org/event/mea-offices-closed-21/
END:VEVENT
BEGIN:VEVENT
DTSTART;TZID=America/New_York:20230522T153000
DTEND;TZID=America/New_York:20230522T163000
DTSTAMP:20240302T020410
CREATED:20230119T205639Z
LAST-MODIFIED:20230119T205639Z
UID:18498-1684769400-1684773000@maineea.org
SUMMARY:Maine Pediatric and Behavioral Health Partnership’s Mental Health Promotion in the School Setting ECHO (Extension for Community Healthcare Outcomes) series
DESCRIPTION:REGISTER \nChoose from one or multiple sessions that are relevant to your role. Sessions are on the 4th Monday of each month and run from 3:30 – 4:30. Contact hours will be awarded for each session attended.Each session begins with a 10-minute mini-lesson covering the scheduled topic\, then transitions into a panel discussion with subject matter experts. Leave the session with tools and recommendations for meeting student needs.Topics Include:Jan 23: Supporting Students with AnxietyFeb 27: Building Emotional ResilienceMar 27: Promoting Rational ThinkingApr 24: Trauma Sensitive De-Escalation  May 22: Proactive Solutions to Problem BehaviorsJune 12: Connecting: Family-School-Community
URL:https://maineea.org/event/maine-pediatric-and-behavioral-health-partnerships-mental-health-promotion-in-the-school-setting-echo-extension-for-community-healthcare-outcomes-series-5/
CATEGORIES:Professional Development
END:VEVENT
BEGIN:VEVENT
DTSTART;TZID=America/New_York:20230521T070000
DTEND;TZID=America/New_York:20230521T130000
DTSTAMP:20240302T020410
CREATED:20230403T132342Z
LAST-MODIFIED:20230403T132342Z
UID:19033-1684652400-1684674000@maineea.org
SUMMARY:95th Annual Representative Assembly
DESCRIPTION:REGISTER\n\nFriday Evening\, May 19th\n\n\n\n\n5:00pm\nPortland & South Portland Room\n\n\nMEA Board of Directors Meeting\n\n\n\n\n\n\n6:30pm\nGrand Ballroom Foyer\n\n\nRegistration (for delegates living 90 miles or MORE from the Sheraton at Sable Oaks)\n\n\n\n\n\n\n7:00pm\nCasco Bay Ballroom\n\n\nSocial and Cash Bar\n\n\n\n\n\n\n7:30pm\nCasco Bay Ballroom\n\n\nDinner (for delegates living 90 miles or MORE from the Sheraton at Sable Oaks)\n\n\n\n\n\n\nSaturday\, May 20th\n\n\n\n\n7:30am\nCasco Bay Ballroom\n\n\nFull Buffet Breakfast\n\n\n\n\n\n\n8:00am\nGrand Ballroom Foyer\n\n\nVendor Exhibits\n\n\n\n\n\n\n8:00am\nGrand Ballroom Foyer\n\n\nRegistration\n\n\n\n\n\n\n8:30am\nSouth Portland Room\n\n\nMeeting for delegates who filed late and require seating\n\n\n\n\n\n\n9:00am\nPortland Room\n\n\nOrientation for New Delegates (any delegate may attend)\n\n\n\n\n\n\n10:00am\nGrand Ballroom\n\n\nFirst Business Meeting\n\n\n\n\n\n\nNoon (approximate)\nCasco Bay Ballroom\n\n\nBuffet Lunch\n\n\n\n\n\n\n1:00pm\nGrand Ballroom\n\n\nSecond Business Meeting\n\n\n\n\n\n\n6:30pm\nCasco Bay Ballroom\n\n\nAwards Banquet\n\n\n\n\n\n\nSunday\, May 21st\n\n\n\n\n7:00am\nCasco Bay Ballroom\n\n\nFull Buffet Breakfast\n\n\n\n\n\n\n8:00am\nPortland Room\n\n\nPolls Open (if needed)\n\n\n\n\n\n\n9:00am\nGrand Ballroom\n\n\nThird Business Meeting\n\n\n\n\n\n\nNoon (approximate)\nCasco Bay Ballroom\n\n\nBoxed Lunch\n\n\n\n\n\n\n1:00pm\nGrand Ballroom\n\n\nFourth Business Meeting (if needed)
URL:https://maineea.org/event/95th-annual-representative-assembly-3/
LOCATION:Sable Oaks\, 200 Sable Oaks Drive\, South Portland\, 04106\, United States
CATEGORIES:Representative Assembly
ATTACH;FMTTYPE=image/png:https://maineea.org/wp-content/uploads/2023/04/Artboard-7@0.5x.png
END:VEVENT
BEGIN:VEVENT
DTSTART;TZID=America/New_York:20230520T073000
DTEND;TZID=America/New_York:20230520T200000
DTSTAMP:20240302T020410
CREATED:20230403T132138Z
LAST-MODIFIED:20230403T132138Z
UID:19031-1684567800-1684612800@maineea.org
SUMMARY:95th Annual Representative Assembly
DESCRIPTION:REGISTER\n\nFriday Evening\, May 19th\n\n\n\n\n5:00pm\nPortland & South Portland Room\n\n\nMEA Board of Directors Meeting\n\n\n\n\n\n\n6:30pm\nGrand Ballroom Foyer\n\n\nRegistration (for delegates living 90 miles or MORE from the Sheraton at Sable Oaks)\n\n\n\n\n\n\n7:00pm\nCasco Bay Ballroom\n\n\nSocial and Cash Bar\n\n\n\n\n\n\n7:30pm\nCasco Bay Ballroom\n\n\nDinner (for delegates living 90 miles or MORE from the Sheraton at Sable Oaks)\n\n\n\n\n\n\nSaturday\, May 20th\n\n\n\n\n7:30am\nCasco Bay Ballroom\n\n\nFull Buffet Breakfast\n\n\n\n\n\n\n8:00am\nGrand Ballroom Foyer\n\n\nVendor Exhibits\n\n\n\n\n\n\n8:00am\nGrand Ballroom Foyer\n\n\nRegistration\n\n\n\n\n\n\n8:30am\nSouth Portland Room\n\n\nMeeting for delegates who filed late and require seating\n\n\n\n\n\n\n9:00am\nPortland Room\n\n\nOrientation for New Delegates (any delegate may attend)\n\n\n\n\n\n\n10:00am\nGrand Ballroom\n\n\nFirst Business Meeting\n\n\n\n\n\n\nNoon (approximate)\nCasco Bay Ballroom\n\n\nBuffet Lunch\n\n\n\n\n\n\n1:00pm\nGrand Ballroom\n\n\nSecond Business Meeting\n\n\n\n\n\n\n6:30pm\nCasco Bay Ballroom\n\n\nAwards Banquet\n\n\n\n\n\n\nSunday\, May 21st\n\n\n\n\n7:00am\nCasco Bay Ballroom\n\n\nFull Buffet Breakfast\n\n\n\n\n\n\n8:00am\nPortland Room\n\n\nPolls Open (if needed)\n\n\n\n\n\n\n9:00am\nGrand Ballroom\n\n\nThird Business Meeting\n\n\n\n\n\n\nNoon (approximate)\nCasco Bay Ballroom\n\n\nBoxed Lunch\n\n\n\n\n\n\n1:00pm\nGrand Ballroom\n\n\nFourth Business Meeting (if needed)
URL:https://maineea.org/event/95th-annual-representative-assembly-2/
LOCATION:Sable Oaks\, 200 Sable Oaks Drive\, South Portland\, 04106\, United States
CATEGORIES:Representative Assembly
ATTACH;FMTTYPE=image/png:https://maineea.org/wp-content/uploads/2023/04/Artboard-7@0.5x.png
END:VEVENT
BEGIN:VEVENT
DTSTART;TZID=America/New_York:20230519T170000
DTEND;TZID=America/New_York:20230519T193000
DTSTAMP:20240302T020410
CREATED:20230403T132001Z
LAST-MODIFIED:20230403T132001Z
UID:19028-1684515600-1684524600@maineea.org
SUMMARY:95th Annual Representative Assembly
DESCRIPTION:REGISTER\n\nFriday Evening\, May 19th\n\n\n\n\n5:00pm\nPortland & South Portland Room\n\n\nMEA Board of Directors Meeting\n\n\n\n\n\n\n6:30pm\nGrand Ballroom Foyer\n\n\nRegistration (for delegates living 90 miles or MORE from the Sheraton at Sable Oaks)\n\n\n\n\n\n\n7:00pm\nCasco Bay Ballroom\n\n\nSocial and Cash Bar\n\n\n\n\n\n\n7:30pm\nCasco Bay Ballroom\n\n\nDinner (for delegates living 90 miles or MORE from the Sheraton at Sable Oaks)\n\n\n\n\n\n\nSaturday\, May 20th\n\n\n\n\n7:30am\nCasco Bay Ballroom\n\n\nFull Buffet Breakfast\n\n\n\n\n\n\n8:00am\nGrand Ballroom Foyer\n\n\nVendor Exhibits\n\n\n\n\n\n\n8:00am\nGrand Ballroom Foyer\n\n\nRegistration\n\n\n\n\n\n\n8:30am\nSouth Portland Room\n\n\nMeeting for delegates who filed late and require seating\n\n\n\n\n\n\n9:00am\nPortland Room\n\n\nOrientation for New Delegates (any delegate may attend)\n\n\n\n\n\n\n10:00am\nGrand Ballroom\n\n\nFirst Business Meeting\n\n\n\n\n\n\nNoon (approximate)\nCasco Bay Ballroom\n\n\nBuffet Lunch\n\n\n\n\n\n\n1:00pm\nGrand Ballroom\n\n\nSecond Business Meeting\n\n\n\n\n\n\n6:30pm\nCasco Bay Ballroom\n\n\nAwards Banquet\n\n\n\n\n\n\nSunday\, May 21st\n\n\n\n\n7:00am\nCasco Bay Ballroom\n\n\nFull Buffet Breakfast\n\n\n\n\n\n\n8:00am\nPortland Room\n\n\nPolls Open (if needed)\n\n\n\n\n\n\n9:00am\nGrand Ballroom\n\n\nThird Business Meeting\n\n\n\n\n\n\nNoon (approximate)\nCasco Bay Ballroom\n\n\nBoxed Lunch\n\n\n\n\n\n\n1:00pm\nGrand Ballroom\n\n\nFourth Business Meeting (if needed)
URL:https://maineea.org/event/95th-annual-representative-assembly/
LOCATION:Sable Oaks\, 200 Sable Oaks Drive\, South Portland\, 04106\, United States
CATEGORIES:Representative Assembly
ATTACH;FMTTYPE=image/png:https://maineea.org/wp-content/uploads/2023/04/Artboard-7@0.5x.png
END:VEVENT
BEGIN:VEVENT
DTSTART;VALUE=DATE:20230519
DTEND;VALUE=DATE:20230520
DTSTAMP:20240302T020410
CREATED:20220527T155259Z
LAST-MODIFIED:20220818T164722Z
UID:16752-1684454400-1684540799@maineea.org
SUMMARY:MEA Board of Directors Meeting
DESCRIPTION:
URL:https://maineea.org/event/mea-board-of-directors-meeting-7/
END:VEVENT
END:VCALENDAR