BEGIN:VCALENDAR
VERSION:2.0
PRODID:-//Maine Education Association - ECPv6.3.3.1//NONSGML v1.0//EN
CALSCALE:GREGORIAN
METHOD:PUBLISH
X-ORIGINAL-URL:https://maineea.org
X-WR-CALDESC:Events for Maine Education Association
REFRESH-INTERVAL;VALUE=DURATION:PT1H
X-Robots-Tag:noindex
X-PUBLISHED-TTL:PT1H
BEGIN:VTIMEZONE
TZID:America/New_York
BEGIN:DAYLIGHT
TZOFFSETFROM:-0500
TZOFFSETTO:-0400
TZNAME:EDT
DTSTART:20230312T070000
END:DAYLIGHT
BEGIN:STANDARD
TZOFFSETFROM:-0400
TZOFFSETTO:-0500
TZNAME:EST
DTSTART:20231105T060000
END:STANDARD
END:VTIMEZONE
BEGIN:VEVENT
DTSTART;VALUE=DATE:20230411
DTEND;VALUE=DATE:20230412
DTSTAMP:20240302T020526
CREATED:20220527T155150Z
LAST-MODIFIED:20220818T165009Z
UID:16739-1681171200-1681257599@maineea.org
SUMMARY:MEA President's Virtual Office Hours\, 7pm
DESCRIPTION:
URL:https://maineea.org/event/mea-presidents-virtual-office-hours-7pm-10/
END:VEVENT
BEGIN:VEVENT
DTSTART;TZID=America/New_York:20230405T163000
DTEND;TZID=America/New_York:20230405T183000
DTSTAMP:20240302T020526
CREATED:20230326T115910Z
LAST-MODIFIED:20230405T190416Z
UID:18978-1680712200-1680719400@maineea.org
SUMMARY:UD #11 & 12 Membership Workshop - Ellsworth
DESCRIPTION:Spring Into Membership\n\n\nE﻿ngaged\, robust membership makes our Local Associations powerful. We are re-focusing our membership planning by beginning our local campaigns with early enrollment – in April\, instead of getting a late start in the tail end of the summer. \nF﻿or those of you who have been involved for a bit\, this meeting IS this year’s “membership kick off” meeting – similar to the one’s we have held in August for years past so it’s really important that each Local participate. \nP﻿lease send at least two representatives from your Local. Shake it up a little – involve some new folks! Think about those folks who know who is who in your school\, people who network naturally\, and who appreciate the union and the work we do together. \nA﻿ttendees will bring back a whole new set of membership tools and resources to re-invigorate your Local’s membership campaign. I’m excited to get started working on it with you! \nD﻿inner will be provided. \nP﻿lease plan to bring your personal laptop or tablet.
URL:https://maineea.org/event/ud-12-membership-workshop-ellsworth/
LOCATION:Elks Lodge – Ellsworth\, 317 High Street\, Ellsworth\, ME\, 04605\, United States
ATTACH;FMTTYPE=image/jpeg:https://maineea.org/wp-content/uploads/2023/03/2bc3e4a8a7a5cef091d79466b29cbe37-sSOgL5.tmp_.jpg
END:VEVENT
BEGIN:VEVENT
DTSTART;VALUE=DATE:20230401
DTEND;VALUE=DATE:20230402
DTSTAMP:20240302T020526
CREATED:20220527T155208Z
LAST-MODIFIED:20220818T165028Z
UID:16741-1680307200-1680393599@maineea.org
SUMMARY:Higher Ed Delegate Assembly
DESCRIPTION:
URL:https://maineea.org/event/higher-ed-delegate-assembly/
END:VEVENT
BEGIN:VEVENT
DTSTART;TZID=America/New_York:20230330T163000
DTEND;TZID=America/New_York:20230330T183000
DTSTAMP:20240302T020526
CREATED:20230308T105937Z
LAST-MODIFIED:20230330T124323Z
UID:18870-1680193800-1680201000@maineea.org
SUMMARY:UD #10 Membership Workshop -  Lincoln Area
DESCRIPTION:March into Membership Workshop 2023\n\n\nL﻿et’s  refocus how we look at our membership plans – and have our local campaigns begin with early enrollment. \nE﻿ach local should send at least two representatives who are “in the know”\, who know people\, they know what’s going on\, and they have the gift of gab. Shake it up a little – involve some new folks – those who appreciate the union and the work we do. \nY﻿ou will leave with a new set of tools\, resources\, and excitement to invigorate your local’s membership campaign. \nD﻿inner will be provided\, and mileage will be reimbursed! \n*Registration closes Monday\, March 27th at 2 p.m. \n*﻿*Please plan to bring your personal laptop or tablet.
URL:https://maineea.org/event/ud-10-membership-workshop-lincoln-area/
LOCATION:Stewart Professional Learning Center & Cowork\, 51 Main Street\, Lincoln\, ME\, 04457\, United States
ATTACH;FMTTYPE=image/jpeg:https://maineea.org/wp-content/uploads/2023/03/e694c00d8492a10f5bfccfc3c5089666-zhvUBi.tmp_.jpg
END:VEVENT
BEGIN:VEVENT
DTSTART;TZID=America/New_York:20230330T163000
DTEND;TZID=America/New_York:20230330T183000
DTSTAMP:20240302T020526
CREATED:20230217T140352Z
LAST-MODIFIED:20230330T124320Z
UID:18717-1680193800-1680201000@maineea.org
SUMMARY:Windham Area  Membership Workshop: UD 1\,2\,3\, and 4
DESCRIPTION:March into Membership Workshop 2023\n\n\nLet’s refocus how we look at our membership plans – and have our local campaigns begin with early enrollment. \nEach local should send at least two representatives who are “in the know”\, who know people\, they know what’s going on\, and they have the gift of gab. Shake it up a little – involve some new folks – those who appreciate the union and the work we do. \nYou will leave with a new set of tools\, resources\, and excitement to invigorate your local’s membership campaign. \nDinner will be provided\, and mileage will be reimbursed! \n*Registration closes Monday\, March 27th  at 4 p.m. \n**Please plan to bring your personal laptop or tablet.
URL:https://maineea.org/event/windham-area-membership-workshop-ud-123-and-4/
LOCATION:Pat’s Pizza\, 844 Roosevelt Trail\, Windham\, ME\, 04062\, United States
ATTACH;FMTTYPE=image/jpeg:https://maineea.org/wp-content/uploads/2023/02/1508763207ee84af974ebb1fda31e2b2-mFnYLn.tmp_.jpg
END:VEVENT
BEGIN:VEVENT
DTSTART;TZID=America/New_York:20230328T163000
DTEND;TZID=America/New_York:20230328T183000
DTSTAMP:20240302T020526
CREATED:20230308T105932Z
LAST-MODIFIED:20230327T121236Z
UID:18867-1680021000-1680028200@maineea.org
SUMMARY:UD #10 & #13 Membership Workshop - Bangor Area
DESCRIPTION:March into Membership Workshop 2023\n\n\nL﻿et’s  refocus how we look at our membership plans – and have our local campaigns begin with early enrollment. \nE﻿ach local should send at least two representatives who are “in the know”\, who know people\, they know what’s going on\, and they have the gift of gab. Shake it up a little – involve some new folks – those who appreciate the union and the work we do. \nY﻿ou will leave with a new set of tools\, resources\, and excitement to invigorate your local’s membership campaign. \nD﻿inner will be provided\, and mileage will be reimbursed! \n*Registration closes Monday\, March 27th at 2 p.m. \n*﻿*Please plan to bring your personal laptop or tablet.
URL:https://maineea.org/event/ud-10-membership-workshop-bangor-area/
LOCATION:Maine Education Association\, 35 Community Drive\, Augusta\, ME\, 04330\, United States
ATTACH;FMTTYPE=image/jpeg:https://maineea.org/wp-content/uploads/2023/03/0adbee1c3c5aa96d2d9daf14708ab86b-kjnVII.tmp_.jpg
END:VEVENT
BEGIN:VEVENT
DTSTART;TZID=America/New_York:20230327T153000
DTEND;TZID=America/New_York:20230327T163000
DTSTAMP:20240302T020526
CREATED:20230119T205308Z
LAST-MODIFIED:20230119T205308Z
UID:18493-1679931000-1679934600@maineea.org
SUMMARY:Maine Pediatric and Behavioral Health Partnership’s Mental Health Promotion in the School Setting ECHO (Extension for Community Healthcare Outcomes) series
DESCRIPTION:REGISTER \nChoose from one or multiple sessions that are relevant to your role. Sessions are on the 4th Monday of each month and run from 3:30 – 4:30. Contact hours will be awarded for each session attended.Each session begins with a 10-minute mini-lesson covering the scheduled topic\, then transitions into a panel discussion with subject matter experts. Leave the session with tools and recommendations for meeting student needs.Topics Include:Jan 23: Supporting Students with AnxietyFeb 27: Building Emotional ResilienceMar 27: Promoting Rational ThinkingApr 24: Trauma Sensitive De-Escalation  May 22: Proactive Solutions to Problem BehaviorsJune 12: Connecting: Family-School-Community
URL:https://maineea.org/event/maine-pediatric-and-behavioral-health-partnerships-mental-health-promotion-in-the-school-setting-echo-extension-for-community-healthcare-outcomes-series-3/
CATEGORIES:Professional Development
END:VEVENT
BEGIN:VEVENT
DTSTART;VALUE=DATE:20230325
DTEND;VALUE=DATE:20230326
DTSTAMP:20240302T020526
CREATED:20220527T155143Z
LAST-MODIFIED:20220818T165044Z
UID:16737-1679702400-1679788799@maineea.org
SUMMARY:Clyde Russell Trust Committee (interviews)
DESCRIPTION:
URL:https://maineea.org/event/clyde-russell-trust-committee-interviews-2/
END:VEVENT
BEGIN:VEVENT
DTSTART;TZID=America/New_York:20230322T173000
DTEND;TZID=America/New_York:20230322T193000
DTSTAMP:20240302T020526
CREATED:20230217T140349Z
LAST-MODIFIED:20230322T061909Z
UID:18714-1679506200-1679513400@maineea.org
SUMMARY:UD15 Membership Workshop/Meeting
DESCRIPTION:Membership Recruitment Goals and Strategies
URL:https://maineea.org/event/ud15-membership-workshop-meeting/
LOCATION:University of Maine at Presque Isle\, 181 Main Street\, Presque Isle\, ME\, 04769\, United States
ATTACH;FMTTYPE=image/jpeg:https://maineea.org/wp-content/uploads/2023/02/cc62f25d9cc3ac98725f18285cebb059-m2wQWj.tmp_.jpg
END:VEVENT
BEGIN:VEVENT
DTSTART;TZID=America/New_York:20230321T160000
DTEND;TZID=America/New_York:20230321T190000
DTSTAMP:20240302T020526
CREATED:20230217T140347Z
LAST-MODIFIED:20230322T061902Z
UID:18711-1679414400-1679425200@maineea.org
SUMMARY:UD 8 Membership Workshop
DESCRIPTION:Membership Workshop for MEA Members in UniServ District 8.\n\n\nMARCH INTO MEMBERSHIP! \nA Membership Workshop / UniServ District 8 Meeting \nLet’s refocus how we look at our membership plans – and have our local campaigns begin with early enrollment on April 1st each year. \nWho should attend? Your Local Association members and leaders who are “in the know”. They know people\, they know what’s going on\, and they have the gift of gab. The members who are happy to talk (and listen) to anyone. Shake it up a little – involve some new folks – those who appreciate the union and the work we do. \nWhen? March 21\, 2023 \n4:00pm: Gather and catch up \n4:30-7:00pm: Membership Workshop (dinner will be provided) \nW﻿here? T&B’s Celebration Center in Skowhegan\, ME \nYou will leave with a new set of tools\, resources\, and excitement to invigorate your local’s membership campaign. \nEach local should send at least two representatives – for dinner and a plan!  \nAs always – the more the merrier!
URL:https://maineea.org/event/ud-8-membership-workshop/
LOCATION:T&B Celebration Center\, 414 Madison Avenue\, Skowhegan\, ME\, 04976\, United States
ATTACH;FMTTYPE=image/jpeg:https://maineea.org/wp-content/uploads/2023/02/7e2fd453e283dfad2cee6c4eb3ffab67-JaOr1N.tmp_.jpg
END:VEVENT
BEGIN:VEVENT
DTSTART;TZID=America/New_York:20230318T100000
DTEND;TZID=America/New_York:20230318T150000
DTSTAMP:20240302T020526
CREATED:20230217T140344Z
LAST-MODIFIED:20230318T094455Z
UID:18707-1679133600-1679151600@maineea.org
SUMMARY:Committee Day - March 18
DESCRIPTION:MEA Committee Day\n\n\nWelcome to the registration site for MEA Committee Day on March 18 \, 2023! \nSPECIAL NOTE: Committee Chairs have a meeting scheduled with President Grace Leavitt at 9:00am at MEA Headquarters. \nLunch will be served. \nAccommodations are available at the Fairfield Inn & Suites\, Augusta\, for those members who live more than 90 miles from the MEA Augusta Office. Rooms are double-occupancy. You will be asked on the registration form if you need accommodations for Friday\, March 17. \nDue to deadlines with our caterer and hotel\, the registration deadline for Committee Day is Friday\, March 10\, 2023. \nWe’ll see you soon!
URL:https://maineea.org/event/committee-day-march-18/
LOCATION:Maine Education Association\, 35 Community Drive\, Augusta\, ME\, 04330\, United States
ATTACH;FMTTYPE=image/jpeg:https://maineea.org/wp-content/uploads/2023/02/8cb1cd5bcfe5329c7826edb8877cfdf3-C6LvZ4.tmp_.jpg
END:VEVENT
BEGIN:VEVENT
DTSTART;TZID=America/New_York:20230318T090000
DTEND;TZID=America/New_York:20230318T140000
DTSTAMP:20240302T020526
CREATED:20220930T194217Z
LAST-MODIFIED:20220930T194217Z
UID:17726-1679130000-1679148000@maineea.org
SUMMARY:National Board Training Support Workshops 2022-23
DESCRIPTION:REGISTER HERE \nNational Board Certification is the most respected professional credential available in education. Any educator with a bachelor’s degree\, active teaching certificate\, and 3 years teaching/school counseling experience is eligible for certification. \nAs part of your membership\, MEA offers FREE\, virtual workshops to guide you through the NBCT process. Participants who complete all sessions will receive 15 CEUs. \nThese workshops are for:\n\nPotential NBCT candidates seeking more information\nNBCT candidates working toward certification\nNBCT renewal candidates\n\n2022-2023 Dates\nAll sessions will be held virtually and will run from 9 AM-2PM. You must attend each workshop. When registering\, please click each dated box to the right which will sign you up for the entire series.\nSupport Workshops: Each workshop will have a different focus based on the needs of the candidates attending. \n\nOctober 29th\nDec. 10th\nJan. 14th\nFeb. 11th\nMarch 18th\nApril 29th\nMay 6th\n\nParticipants are encouraged to attend as many sessions as possible to get the full benefit of working with this group of dedicated Maine teachers. \nAll workshops are sponsored by the Maine Education Association and facilitated by trained Candidate Support Providers who are NBCTs. For more information\, contact MEA. \nBenefits of certification include \n\nIncreased student achievement\nImproved teaching practice\nA network of support\nA yearly salary stipend of $3\,000-$5\,000
URL:https://maineea.org/event/national-board-training-support-workshops-2022-23-5/
CATEGORIES:NBCT Workshop,Professional Development
END:VEVENT
BEGIN:VEVENT
DTSTART;VALUE=DATE:20230318
DTEND;VALUE=DATE:20230319
DTSTAMP:20240302T020526
CREATED:20220527T155141Z
LAST-MODIFIED:20220803T135319Z
UID:16736-1679097600-1679183999@maineea.org
SUMMARY:MEA Committee Day (Resolutions\, S&B\, Budget) - 10am
DESCRIPTION:
URL:https://maineea.org/event/mea-committee-day-resolutions-sb-budget-10am-2/
END:VEVENT
BEGIN:VEVENT
DTSTART;VALUE=DATE:20230318
DTEND;VALUE=DATE:20230319
DTSTAMP:20240302T020526
CREATED:20220527T155125Z
LAST-MODIFIED:20220818T165111Z
UID:16735-1679097600-1679183999@maineea.org
SUMMARY:Committee Chair Meeting - 9am
DESCRIPTION:
URL:https://maineea.org/event/committee-chair-meeting-9am-3/
END:VEVENT
BEGIN:VEVENT
DTSTART;VALUE=DATE:20230317
DTEND;VALUE=DATE:20230318
DTSTAMP:20240302T020526
CREATED:20220527T155123Z
LAST-MODIFIED:20220818T165125Z
UID:16734-1679011200-1679097599@maineea.org
SUMMARY:Clyde Russell Trust Committee
DESCRIPTION:
URL:https://maineea.org/event/clyde-russell-trust-committee-4/
END:VEVENT
BEGIN:VEVENT
DTSTART;VALUE=DATE:20230317
DTEND;VALUE=DATE:20230318
DTSTAMP:20240302T020526
CREATED:20220527T155120Z
LAST-MODIFIED:20220818T165142Z
UID:16733-1679011200-1679097599@maineea.org
SUMMARY:Structure & Bylaws Committee ONLY - 4:30pm
DESCRIPTION:
URL:https://maineea.org/event/structure-bylaws-committee-only-430pm-2/
END:VEVENT
BEGIN:VEVENT
DTSTART;TZID=America/New_York:20230316T163000
DTEND;TZID=America/New_York:20230316T183000
DTSTAMP:20240302T020526
CREATED:20230310T135931Z
LAST-MODIFIED:20230314T144436Z
UID:18894-1678984200-1678991400@maineea.org
SUMMARY:Is It A Grievance or A Gripe?
DESCRIPTION:Is It a Grievance or a Gripe? (And what to do about both…)\n\n\nW﻿e’ll cover updates about what’s happening in Augusta on legislation that impacts our schools\, local and regional bargaining efforts this year\, an update from the MEA Board\, and a presentation about how to be a building rep.
URL:https://maineea.org/event/is-it-a-grievance-or-a-gripe-2/
LOCATION:Bluebird Ranch Family Restaurant\, 78 Main Street\, Machias\, ME\, United States
ATTACH;FMTTYPE=image/jpeg:https://maineea.org/wp-content/uploads/2023/03/b7180784bed44781313e3c14037b845d-59acjf.tmp_.jpg
END:VEVENT
BEGIN:VEVENT
DTSTART;TZID=America/New_York:20230316T163000
DTEND;TZID=America/New_York:20230316T183000
DTSTAMP:20240302T020526
CREATED:20230217T140342Z
LAST-MODIFIED:20230314T144434Z
UID:18705-1678984200-1678991400@maineea.org
SUMMARY:Districts 1\, 2\, 3 & 4 Advocacy Training
DESCRIPTION:Union Advocacy Training\n\n\nAdvocacy is the foundation of union activism. Come explore what advocacy is and the many types of advocacy locals engage as you learn the nuts and bolts of grievance handling. Topics include: the role and rights of union “stewards”\, Weingarten rights\, complaints and investigations\, duty of fair representation\, and the grievance process. Participants will leave with the skills to advocate for members to build local union power. \nThis training is open to ALL association leaders and members interested in becoming an advocate in the future.  Your union’s power comes from its members and is directly related to the number of members who are active participants in our union work.  Whether you’re a seasoned local leader or new to union advocacy and hoping to learn more\, this is the training for you!
URL:https://maineea.org/event/districts-1-2-3-4-advocacy-training/
LOCATION:Clarion Hotel Airport\, 1230 Congress Street\, Portland\, ME\, 04102\, United States
ATTACH;FMTTYPE=image/jpeg:https://maineea.org/wp-content/uploads/2023/02/3bc51f975c608232169f4856a687dcce-birCxp.tmp_.jpg
END:VEVENT
BEGIN:VEVENT
DTSTART;TZID=America/New_York:20230316T160000
DTEND;TZID=America/New_York:20230316T190000
DTSTAMP:20240302T020526
CREATED:20230308T105919Z
LAST-MODIFIED:20230314T144433Z
UID:18864-1678982400-1678993200@maineea.org
SUMMARY:UD 5 Membership Workshop - New Date
DESCRIPTION:Membership Recruitment Goals & Strategies\n\n\nLet’s refocus how we look at our membership plans – and have our local campaigns begin with early enrollment. \nWho should attend? The Local Association members and leaders who are “in the know”. They know people\, they know what’s going on and they have the gift of gab. The members who are happy to talk (and listen) to anyone. Shake it up a little – involve some new folks – those who appreciate the union and the work we do. \nYou will leave with a new set of tools\, resources\, and excitement to invigorate your local’s membership campaign.
URL:https://maineea.org/event/ud-5-membership-workshop-new-date/
LOCATION:Montsweag Restaurant\, 942 U.S. 1\, Woolwich\, ME\, 04579\, United States
ATTACH;FMTTYPE=image/jpeg:https://maineea.org/wp-content/uploads/2023/03/b42633140acdf93a46ad0ae2d980de60-GxkHj2.tmp_.jpg
END:VEVENT
BEGIN:VEVENT
DTSTART;TZID=America/New_York:20230314T160000
DTEND;TZID=America/New_York:20230314T190000
DTSTAMP:20240302T020526
CREATED:20230228T171800Z
LAST-MODIFIED:20230314T144430Z
UID:18823-1678809600-1678820400@maineea.org
SUMMARY:UD 5 Membership Workshop - Rescheduled
DESCRIPTION:Membership Recruitment Goals & Strategies\n\n\nLet’s refocus how we look at our membership plans – and have our local campaigns begin with early enrollment. \nWho should attend? The Local Association members and leaders who are “in the know”. They know people\, they know what’s going on and they have the gift of gab. The members who are happy to talk (and listen) to anyone. Shake it up a little – involve some new folks – those who appreciate the union and the work we do. \nYou will leave with a new set of tools\, resources\, and excitement to invigorate your local’s membership campaign.
URL:https://maineea.org/event/ud-5-membership-workshop-rescheduled/
LOCATION:Montsweag Restaurant\, 942 U.S. 1\, Woolwich\, ME\, 04579\, United States
ATTACH;FMTTYPE=image/jpeg:https://maineea.org/wp-content/uploads/2023/02/0ae698fbb538092c2aee35075e0651d1-3GhATW.tmp_.jpg
END:VEVENT
BEGIN:VEVENT
DTSTART;VALUE=DATE:20230314
DTEND;VALUE=DATE:20230315
DTSTAMP:20240302T020526
CREATED:20220527T155117Z
LAST-MODIFIED:20220818T165159Z
UID:16732-1678752000-1678838399@maineea.org
SUMMARY:MEA President's Virtual Office Hours\, 7pm
DESCRIPTION:
URL:https://maineea.org/event/mea-presidents-virtual-office-hours-7pm-9/
END:VEVENT
BEGIN:VEVENT
DTSTART;TZID=America/New_York:20230311T090000
DTEND;TZID=America/New_York:20230311T150000
DTSTAMP:20240302T020526
CREATED:20230210T171845Z
LAST-MODIFIED:20230210T171845Z
UID:18606-1678525200-1678546800@maineea.org
SUMMARY:Early Career Educators Conference
DESCRIPTION:REGISTER \nIf you are in your first five years on the job or an education major\, the Maine Education Association has an event designed to support you in your work. \nYou are invited to join MEA at our Early Career Educators Conference -On Course to Lead \nPortland\, Maine\nMarch 11th\n9:00 AM – 3:00 PM\nContact Hours Earned: 5 \nSessions will cover: \n\nClassroom management\nMeeting student needs through IEPs\, 504s\, and Language Acquisition Plans\nAccommodations for all students\nUnderstanding your contract\, paystubs\, and rights in the workplace.\n\nThis conference is free for members and nonmembers\, but space is limited. Reserve your spot today! \nREGISTER
URL:https://maineea.org/event/early-career-educators-conference/
LOCATION:Wishcamper Center\, 34 Bedford Street\, Portland\, ME\, 04101\, United States
CATEGORIES:Early Career Educators,Professional Development
ATTACH;FMTTYPE=image/png:https://maineea.org/wp-content/uploads/2023/02/ECE-23-Header.png
END:VEVENT
BEGIN:VEVENT
DTSTART;TZID=America/New_York:20230308T173000
DTEND;TZID=America/New_York:20230308T193000
DTSTAMP:20240302T020526
CREATED:20230217T140340Z
LAST-MODIFIED:20230308T105915Z
UID:18702-1678296600-1678303800@maineea.org
SUMMARY:UD 6 Membership Workshop
DESCRIPTION:March into Membership\n\n\nLet’s refocus how we look at our membership plans – and have our local campaigns begin with early enrollment. \nEach local should send at least two representatives who are “in the know”\, who know people\, they know what’s going on\, and they have the gift of gab. Shake it up a little – involve some new folks – those who appreciate the union and the work we do. \nYou will leave with a new set of tools\, resources\, and excitement to invigorate your local’s membership campaign. \nDinner will be provided\, and mileage will be reimbursed! \nPlease select the one meeting that works best for you! \n*Registration closes Thursday\, March 2nd at 4 p.m. \n**Please plan to bring your personal laptop or tablet
URL:https://maineea.org/event/ud-6-membership-workshop/
LOCATION:DaVinci’s Eatery\, 150 Mill Street\, Lewiston\, ME\, 04240\, United States
ATTACH;FMTTYPE=image/jpeg:https://maineea.org/wp-content/uploads/2023/02/6b073c2ddb6038adb27ad7072fcf1847-nKx5Wf.tmp_.jpg
END:VEVENT
BEGIN:VEVENT
DTSTART;TZID=America/New_York:20230307T173000
DTEND;TZID=America/New_York:20230307T193000
DTSTAMP:20240302T020526
CREATED:20230217T140337Z
LAST-MODIFIED:20230228T171755Z
UID:18698-1678210200-1678217400@maineea.org
SUMMARY:UD 9 Membership Workshop
DESCRIPTION:March Into Membership Workshop\n\n\nLet’s refocus how we look at our membership plans – and have our local campaigns begin with early enrollment. \nEach local should send at least two representatives who are “in the know”\, who know people\, they know what’s going on\, and they have the gift of gab. Shake it up a little – involve some new folks – those who appreciate the union and the work we do. \nYou will leave with a new set of tools\, resources\, and excitement to invigorate your local’s membership campaign. \nDinner will be provided\, and mileage will be reimbursed! \nPlease select the one meeting that works best for you! \n*Registration closes Thursday\, March 2nd at 4 p.m. \n**Please plan to bring your personal laptop or tablet
URL:https://maineea.org/event/ud-9-membership-workshop/
LOCATION:Darby’s\, 155 High Street\, Belfast\, ME\, 04915\, United States
ATTACH;FMTTYPE=image/jpeg:https://maineea.org/wp-content/uploads/2023/02/7f29c06fe246f88022c60b38b6e93cf8-9CyawM.tmp_.jpg
END:VEVENT
BEGIN:VEVENT
DTSTART;TZID=America/New_York:20230307T170000
DTEND;TZID=America/New_York:20230307T181500
DTSTAMP:20240302T020526
CREATED:20230217T140335Z
LAST-MODIFIED:20230228T171753Z
UID:18695-1678208400-1678212900@maineea.org
SUMMARY:Pre-Retirement Seminar - Session 6
DESCRIPTION:Pre-Retirement Seminars\n\n\nPre-Retirement Seminar – Session 6 \nThis session will be held on two evenings from 5:00 p.m. – 6:15 p.m. via Zoom for active MEA members.  \n •	Tuesday\, March 7\, 2023 – MEA-Retired\, MEA Benefit Trust\, WEP/GPO \n•	Wednesday\, March 8\, 2023 – MEA-Retired\, MainePERS \nThe link to access the Zoom meeting\, along with the materials from MainePERS\, MEA Benefits Trust\, MEA-Retired and Horace Mann will be emailed to the email address used during registration.  This email will be sent the day before your session. The meeting link will be used for both nights of your session. \nPlease be aware that there have been instances where the Zoom link and materials have been sent to a junk/spam folder. We ask that you check these folders as well.
URL:https://maineea.org/event/pre-retirement-seminar-session-6-2/
ATTACH;FMTTYPE=image/jpeg:https://maineea.org/wp-content/uploads/2023/02/401d9f5569387bf221a4ad28eefe9ad1-y99Xtg.tmp_.jpg
END:VEVENT
BEGIN:VEVENT
DTSTART;TZID=America/New_York:20230307T163000
DTEND;TZID=America/New_York:20230307T183000
DTSTAMP:20240302T020526
CREATED:20230217T140333Z
LAST-MODIFIED:20230228T171750Z
UID:18693-1678206600-1678213800@maineea.org
SUMMARY:Portland Area Membership Workshop: UD 1\,2\,3\, & 4
DESCRIPTION:March into Membership Workshop 2023\n\n\nLet’s refocus how we look at our membership plans – and have our local campaigns begin with early enrollment.\n \n \nEach local should send at least two representatives who are “in the know”\, who know people\, they know what’s going on\, and they have the gift of gab. Shake it up a little – involve some new folks – those who appreciate the union and the work we do.\n \n \nYou will leave with a new set of tools\, resources\, and excitement to invigorate your local’s membership campaign.\n \n \nDinner will be provided\, and mileage will be reimbursed!\n \n \n*Registration closes Thursday\, March 2nd at 4 p.m.\n \n \n**Please plan to bring your personal laptop or tablet.
URL:https://maineea.org/event/portland-area-membership-workshop-ud-123-4/
LOCATION:Clarion Hotel Airport\, 1230 Congress Street\, Portland\, ME\, 04102\, United States
ATTACH;FMTTYPE=image/jpeg:https://maineea.org/wp-content/uploads/2023/02/9184d78e0f54121b4bdcef8fb184f0fe-VQRmBt.tmp_.jpg
END:VEVENT
BEGIN:VEVENT
DTSTART;TZID=America/New_York:20230306T173000
DTEND;TZID=America/New_York:20230306T193000
DTSTAMP:20240302T020526
CREATED:20230217T140330Z
LAST-MODIFIED:20230228T171749Z
UID:18689-1678123800-1678131000@maineea.org
SUMMARY:UD 7 Membership Workshop
DESCRIPTION:March into Membership Workshop\n\n\nLet’s refocus how we look at our membership plans – and have our local campaigns begin with early enrollment. \nEach local should send at least two representatives who are “in the know”\, who know people\, they know what’s going on\, and they have the gift of gab. Shake it up a little – involve some new folks – those who appreciate the union and the work we do. \nYou will leave with a new set of tools\, resources\, and excitement to invigorate your local’s membership campaign. \nDinner will be provided\, and mileage will be reimbursed! \nPlease select the one meeting that works best for you! \n*Registration closes Thursday\, March 2nd at 4 p.m. \n**Please plan to bring your personal laptop or tablet
URL:https://maineea.org/event/ud-7-membership-workshop/
LOCATION:Senator Inn & Spa\, 284 Western Avenue\, Augusta\, ME\, 04330\, United States
ATTACH;FMTTYPE=image/jpeg:https://maineea.org/wp-content/uploads/2023/02/136036f11632abd1c8fb2e15591e242d-OgSyLG.tmp_.jpg
END:VEVENT
BEGIN:VEVENT
DTSTART;TZID=America/New_York:20230304T100000
DTEND;TZID=America/New_York:20230304T150000
DTSTAMP:20240302T020526
CREATED:20230217T140328Z
LAST-MODIFIED:20230228T171747Z
UID:18685-1677924000-1677942000@maineea.org
SUMMARY:Committee Day - March 4
DESCRIPTION:MEA Committee Day\n\n\nWelcome to the registration site for MEA Committee Day on March 4 \, 2023! \nSPECIAL NOTE: Committee Chairs have a meeting scheduled with President Grace Leavitt at 9:00am at MEA Headquarters. \nLunch will be served. \nAccommodations are available at the Fairfield Inn & Suites\, Augusta\, for those members who live more than 90 miles from the MEA Augusta Office. Rooms are double-occupancy. You will be asked on the registration form if you need accommodations for Friday\, March 3. \nDue to deadlines with our caterer and hotel\, the registration deadline for Committee Day is Friday\, February 24\, 2023. \nWe’ll see you soon!
URL:https://maineea.org/event/committee-day-march-4/
LOCATION:Maine Education Association\, 35 Community Drive\, Augusta\, ME\, 04330\, United States
ATTACH;FMTTYPE=image/jpeg:https://maineea.org/wp-content/uploads/2023/02/7a462fc15f1d235d03a4387fbbf67318-iKYAYi.tmp_.jpg
END:VEVENT
BEGIN:VEVENT
DTSTART;VALUE=DATE:20230304
DTEND;VALUE=DATE:20230305
DTSTAMP:20240302T020526
CREATED:20220527T155056Z
LAST-MODIFIED:20220803T135210Z
UID:16730-1677888000-1677974399@maineea.org
SUMMARY:MEA Committee Day (BIPOC\, ESP\, GR\, HCRSJ\, IPD\, SWB ad hoc YEP) - 10am
DESCRIPTION:
URL:https://maineea.org/event/mea-committee-day-bipoc-esp-gr-hcrsj-ipd-swb-10am-2/
END:VEVENT
BEGIN:VEVENT
DTSTART;VALUE=DATE:20230304
DTEND;VALUE=DATE:20230305
DTSTAMP:20240302T020526
CREATED:20220527T155054Z
LAST-MODIFIED:20220818T165223Z
UID:16729-1677888000-1677974399@maineea.org
SUMMARY:Committee Chair Meetings - 9am
DESCRIPTION:
URL:https://maineea.org/event/committee-chair-meetings-9am-2/
END:VEVENT
END:VCALENDAR