BEGIN:VCALENDAR
VERSION:2.0
PRODID:-//Maine Education Association - ECPv6.15.20//NONSGML v1.0//EN
CALSCALE:GREGORIAN
METHOD:PUBLISH
X-WR-CALNAME:Maine Education Association
X-ORIGINAL-URL:https://maineea.org
X-WR-CALDESC:Events for Maine Education Association
REFRESH-INTERVAL;VALUE=DURATION:PT1H
X-Robots-Tag:noindex
X-PUBLISHED-TTL:PT1H
BEGIN:VTIMEZONE
TZID:America/New_York
BEGIN:DAYLIGHT
TZOFFSETFROM:-0500
TZOFFSETTO:-0400
TZNAME:EDT
DTSTART:20240310T070000
END:DAYLIGHT
BEGIN:STANDARD
TZOFFSETFROM:-0400
TZOFFSETTO:-0500
TZNAME:EST
DTSTART:20241103T060000
END:STANDARD
BEGIN:DAYLIGHT
TZOFFSETFROM:-0500
TZOFFSETTO:-0400
TZNAME:EDT
DTSTART:20250309T070000
END:DAYLIGHT
BEGIN:STANDARD
TZOFFSETFROM:-0400
TZOFFSETTO:-0500
TZNAME:EST
DTSTART:20251102T060000
END:STANDARD
BEGIN:DAYLIGHT
TZOFFSETFROM:-0500
TZOFFSETTO:-0400
TZNAME:EDT
DTSTART:20260308T070000
END:DAYLIGHT
BEGIN:STANDARD
TZOFFSETFROM:-0400
TZOFFSETTO:-0500
TZNAME:EST
DTSTART:20261101T060000
END:STANDARD
END:VTIMEZONE
BEGIN:VEVENT
DTSTART;TZID=America/New_York:20251104T170000
DTEND;TZID=America/New_York:20251104T181500
DTSTAMP:20260424T185853
CREATED:20250821T194201Z
LAST-MODIFIED:20251104T214509Z
UID:26265-1762275600-1762280100@maineea.org
SUMMARY:Pre-Retirement Seminar - Session 3
DESCRIPTION:Fall Pre-Retirement Seminar\n\n\nPre-Retirement Seminar – Session 3\n \nThis session will be held on two evenings from 5:00 p.m. – 6:15 p.m. via Zoom. \n• Tuesday\, November 4\, 2025 – Presentation by MEA Benefits Trust. \n• Wednesday\, November 5\, 2025 – Presentations by MEA-Retired and MainePERS \nThe link to access the Zoom meeting\, along with the materials from MEA-Retired\, MEA Benefits Trust\, and MainePERS will be emailed to the email address used during registration. This email will be sent the day before your session. The meeting link will be used for both nights of your session. \nPlease be aware that there have been instances where the Zoom link and materials have been sent to a junk/spam folder. We ask that you check these folders. \nIf you receive a notice that you need a ticket to attend the meeting\, please disregard. You DO NOT need a ticket to attend the meeting.
URL:https://maineea.org/event/pre-retirement-seminar-session-3-6/
LOCATION:ME
ATTACH;FMTTYPE=image/jpeg:https://maineea.org/wp-content/uploads/2025/08/9a6cc8036d637916868c448c85148a6d-Fr2nwS.tmp_.jpg
END:VEVENT
BEGIN:VEVENT
DTSTART;TZID=America/New_York:20251029T163000
DTEND;TZID=America/New_York:20251029T190000
DTSTAMP:20260424T185853
CREATED:20251009T201807Z
LAST-MODIFIED:20251028T200128Z
UID:26646-1761755400-1761764400@maineea.org
SUMMARY:Effective Advocacy Through Effective Locals
DESCRIPTION:Building Association Leadership
URL:https://maineea.org/event/effective-advocacy-through-effective-locals-2/
LOCATION:Helen’s Restaurant\, 111 Main Street\, Machias\, ME\, 04654\, United States
ATTACH;FMTTYPE=image/jpeg:https://maineea.org/wp-content/uploads/2025/10/bc6ea82d68b93985330d4ebe5f9ce7e7-2pjPtD.tmp_.jpg
END:VEVENT
BEGIN:VEVENT
DTSTART;TZID=America/New_York:20251007T163000
DTEND;TZID=America/New_York:20251118T193000
DTSTAMP:20260424T185853
CREATED:20250908T201904Z
LAST-MODIFIED:20251118T101128Z
UID:26372-1759854600-1763494200@maineea.org
SUMMARY:CANCELLED Negotiation Trainings Portland
DESCRIPTION:Negotiation Trainings 2025 Sessions 1-4\n\n\nNegotiation Training 2025 \nPresented by MEA UniServ Directors \nPlease join for a four-part\, comprehensive negotiations training series. This training is especially beneficial for those who are at the bargaining table this year but is open to all local negotiations teams. \nIf you are bargaining this year\, it is critical that your local’s Chief Negotiator and entire bargaining team commit to attend ALL FOUR sessions! Participation in these trainings is vital to your success at the bargaining table. Even if you have bargaining experience\, your presence at these trainings will allow your local and MEA members in your region to strategize together. \nDinner will be provided! \nSession I – Bargaining Basics\, Tuesday\, October 7th \nSession II – Contract Analysis & Proposal Preparation\, Tuesday\, October 21st \nSession III – Compensation & Health Insurance\, Tuesday\, November 4th \nSession IV – At the Table – Strategy and Behavior\, Tuesday\, November 18th
URL:https://maineea.org/event/negotiation-trainings-portland-2/
LOCATION:Maine Education Association\, 35 Community Drive\, Augusta\, ME\, 04330\, United States
ATTACH;FMTTYPE=image/jpeg:https://maineea.org/wp-content/uploads/2023/09/a360e1cd0218082936e6d93343357c78-xEpRe7.tmp_.jpg
END:VEVENT
END:VCALENDAR