BEGIN:VCALENDAR
VERSION:2.0
PRODID:-//Maine Education Association - ECPv6.15.20//NONSGML v1.0//EN
CALSCALE:GREGORIAN
METHOD:PUBLISH
X-ORIGINAL-URL:https://maineea.org
X-WR-CALDESC:Events for Maine Education Association
REFRESH-INTERVAL;VALUE=DURATION:PT1H
X-Robots-Tag:noindex
X-PUBLISHED-TTL:PT1H
BEGIN:VTIMEZONE
TZID:America/New_York
BEGIN:DAYLIGHT
TZOFFSETFROM:-0500
TZOFFSETTO:-0400
TZNAME:EDT
DTSTART:20250309T070000
END:DAYLIGHT
BEGIN:STANDARD
TZOFFSETFROM:-0400
TZOFFSETTO:-0500
TZNAME:EST
DTSTART:20251102T060000
END:STANDARD
BEGIN:DAYLIGHT
TZOFFSETFROM:-0500
TZOFFSETTO:-0400
TZNAME:EDT
DTSTART:20260308T070000
END:DAYLIGHT
BEGIN:STANDARD
TZOFFSETFROM:-0400
TZOFFSETTO:-0500
TZNAME:EST
DTSTART:20261101T060000
END:STANDARD
BEGIN:DAYLIGHT
TZOFFSETFROM:-0500
TZOFFSETTO:-0400
TZNAME:EDT
DTSTART:20270314T070000
END:DAYLIGHT
BEGIN:STANDARD
TZOFFSETFROM:-0400
TZOFFSETTO:-0500
TZNAME:EST
DTSTART:20271107T060000
END:STANDARD
END:VTIMEZONE
BEGIN:VEVENT
DTSTART;TZID=America/New_York:20260204T170000
DTEND;TZID=America/New_York:20260204T190000
DTSTAMP:20260424T124107
CREATED:20260126T205629Z
LAST-MODIFIED:20260126T205835Z
UID:27650-1770224400-1770231600@maineea.org
SUMMARY:Dine & Discuss
DESCRIPTION:REGISTER HERE \nJOIN US FOR CONVERSATION WITH YOUR LEGISLATORS Key leaders from the Maine House & Senate will be joining us for dinner and discussion around the topics that are important to educators. We’ll spend some time brainstorming questions that you’d like to ask legislators\, then during dinner you’ll be seated with those that represent the towns in your school district.
URL:https://maineea.org/event/dine-discuss/
LOCATION:Jimmy the Greek’s\, 215 Saco Ave\, Old Orchard Beach\, ME\, 04064\, United States
CATEGORIES:UD Meetings
ATTACH;FMTTYPE=image/jpeg:https://maineea.org/wp-content/uploads/2026/01/b65128b9409037db7ca9ff76d8fbe5d8-smTbBY.tmp_.jpg
END:VEVENT
BEGIN:VEVENT
DTSTART;TZID=America/New_York:20260210T163000
DTEND;TZID=America/New_York:20260210T183000
DTSTAMP:20260424T124107
CREATED:20260115T050721Z
LAST-MODIFIED:20260210T082957Z
UID:27503-1770741000-1770748200@maineea.org
SUMMARY:District 8 Governance Networking Meeting!
DESCRIPTION:Join your fellow MEA members for a Governance Networking Opportunity! You will meet other local leaders and your MEA Board members.
URL:https://maineea.org/event/district-8-governance-networking-meeting/
LOCATION:T&B Celebration Center\, 414 Madison Avenue\, Skowhegan\, ME\, 04976\, United States
ATTACH;FMTTYPE=image/jpeg:https://maineea.org/wp-content/uploads/2026/01/b65128b9409037db7ca9ff76d8fbe5d8-smTbBY.tmp_.jpg
END:VEVENT
BEGIN:VEVENT
DTSTART;TZID=America/New_York:20260210T170000
DTEND;TZID=America/New_York:20260210T181500
DTSTAMP:20260424T124107
CREATED:20250821T194209Z
LAST-MODIFIED:20260210T082959Z
UID:26271-1770742800-1770747300@maineea.org
SUMMARY:Pre-Retirement Seminar - Session 6
DESCRIPTION:Winter Pre-Retirement Seminar\n\n\nPre-Retirement Seminar – Session 6\n \nThis session will be held on two evenings from 5:00 p.m. – 6:15 p.m. via Zoom. \n• Tuesday\, February 10\, 2026 – Presentation by MEA Benefits Trust. \n• Wednesday\, February 11\, 2026 – Presentations by MEA-Retired and MainePERS \nThe link to access the Zoom meeting\, along with the materials from MEA-Retired\, MEA Benefits Trust\, and MainePERS will be emailed to the email address used during registration. This email will be sent the day before your session. The meeting link will be used for both nights of your session. \nPlease be aware that there have been instances where the Zoom link and materials have been sent to a junk/spam folder. We ask that you check these folders. \nIf you receive a notice that you need a ticket to attend the meeting\, please disregard. You DO NOT need a ticket to attend the meeting.
URL:https://maineea.org/event/pre-retirement-seminar-session-6-5/
LOCATION:ME
ATTACH;FMTTYPE=image/jpeg:https://maineea.org/wp-content/uploads/2025/08/9a6cc8036d637916868c448c85148a6d-Fr2nwS.tmp_.jpg
END:VEVENT
BEGIN:VEVENT
DTSTART;TZID=America/New_York:20260221T081500
DTEND;TZID=America/New_York:20260221T153000
DTSTAMP:20260424T124107
CREATED:20251105T195311Z
LAST-MODIFIED:20251105T200242Z
UID:26862-1771661700-1771687800@maineea.org
SUMMARY:MEA Together As One Winter Conference - Bangor
DESCRIPTION:REGISTER \nCome Learn with Us! \nMEA’s Together as One Winter Conference offers the perfect FREE opportunity for members to connect with union colleagues from across the state and enhance their skills as educators\, leaders\, and change-makers. \nTake advantage of this valuable opportunity to learn\, grow\, and connect with your union colleagues.
URL:https://maineea.org/event/mea-together-as-one-winter-conference-bangor/
LOCATION:United Technologies Center Region 4\, 200 Hogan Rd.\, Bangor\, ME\, 04401\, United States
ATTACH;FMTTYPE=image/png:https://maineea.org/wp-content/uploads/2024/10/CVENT-HEADER-BANGOR.png
END:VEVENT
BEGIN:VEVENT
DTSTART;TZID=America/New_York:20260225T160000
DTEND;TZID=America/New_York:20260225T173000
DTSTAMP:20260424T124107
CREATED:20251219T162504Z
LAST-MODIFIED:20251219T162627Z
UID:27200-1772035200-1772040600@maineea.org
SUMMARY:Keeping Disruptive Students Engaged: Examining the Need for Targeted Classroom Management Training
DESCRIPTION:Teachers often encounter disruptive behaviors\, which can escalate into more severe behavior if classroom management strategies are not employed. This session will discuss the ongoing behavior crisis in schools\, and participants will leave with practical\, evidence-based classroom management strategies they can implement immediately.
URL:https://maineea.org/event/keeping-disruptive-students-engaged-examining-the-need-for-targeted-classroom-management-training/
LOCATION:Virtual via Zoom
CATEGORIES:Webinar
ATTACH;FMTTYPE=image/webp:https://maineea.org/wp-content/uploads/2022/05/MEA-Header-scaled-e1660760024579.webp
END:VEVENT
BEGIN:VEVENT
DTSTART;TZID=America/New_York:20260228T090000
DTEND;TZID=America/New_York:20260228T140000
DTSTAMP:20260424T124107
CREATED:20260127T153019Z
LAST-MODIFIED:20260127T153949Z
UID:27657-1772269200-1772287200@maineea.org
SUMMARY:Committee Day - February 28th
DESCRIPTION:REGISTER HERE \nWelcome to the registration site for MEA Committee Day on February 28th\, 2026!  \nSPECIAL NOTE: Committee Chairs and Board Liaisons have a meeting scheduled with President Jesse Hargrove at 8:30 am at MEA Headquarters.  \nLunch will be served. Accommodations are available at the Maine Evergreen\, Augusta\, for those members who live more than 90 miles from the MEA Augusta Office. Rooms are double-occupancy. You will be asked on the registration form if you need accommodations for Friday\, February 27th.  \nDue to deadlines with our caterer and hotel\, the registration deadline for Committee Day is Friday\, February 13th\, 2026.  \nWe’ll see you soon!
URL:https://maineea.org/event/committee-day-february-28th/
LOCATION:MEA HQ\, 35 Community Drive\, Augusta\, ME\, 04330\, United States
CATEGORIES:Committee Day
ATTACH;FMTTYPE=image/jpeg:https://maineea.org/wp-content/uploads/2026/01/b65128b9409037db7ca9ff76d8fbe5d8-smTbBY.tmp_.jpg
END:VEVENT
END:VCALENDAR